BEGIN:VCALENDAR
VERSION:2.0
PRODID:gruene-os.de
METHOD:PUBLISH
BEGIN:VTIMEZONE
TZID:Europe/Berlin
X-LIC-LOCATION:Europe/Berlin
BEGIN:DAYLIGHT
TZOFFSETFROM:+0100
TZOFFSETTO:+0200
TZNAME:CEST
DTSTART:19700329T020000
RRULE:FREQ=YEARLY;INTERVAL=1;BYDAY=-1SU;BYMONTH=3
END:DAYLIGHT
BEGIN:STANDARD
TZOFFSETFROM:+0200
TZOFFSETTO:+0100
TZNAME:CET
DTSTART:19701025T030000
RRULE:FREQ=YEARLY;INTERVAL=1;BYDAY=-1SU;BYMONTH=10
END:STANDARD
END:VTIMEZONE
BEGIN:VEVENT
UID:cd4c7cda1fbabb42553069f8ee2d9647@gruene-os.de
URL;VALUE=URI:https://gruene-os.de/blog/termine/wir-lassen-die-demokratie
 -leuchten/
LOCATION:Theatervorplatz, Platz der Deutschen Einheit, Osnabrück
SUMMARY:Wir lassen die Demokratie leuchten
DESCRIPTION;ALTREP="data:text/html,%0A%3Cp%3EVor%2035%20Jahren%20fiel%20e
 ine%20Mauer%2C%20die%20Menschen%2C%20ein%20Land%20und%20die%20Welt%20spal
 tete.%20Eine%20Chance%20f%C3%BCr%20die%20Menschen%2C%20gemeinsam%20eine%2
 0demokratische%20Welt%20zu%20gestalten.%20Wir%20erinnern%20des%20Mauerfal
 ls%20und%20einer%20Demokratiebewegung%2C%20die%20viele%20Konflikte%20ertr
 agen%20musste%20und%20noch%20gebraucht%20wird%2C%20wie%20die%20Menschen%2
 0auf%20den%20Stra%C3%9Fen%20zum%20Jahresanfang%20eindrucksvoll%20gezeigt%
 20haben.%3C%2Fp%3E%0A%0A%0A%0A%3Cp%3EDeswegen%20rufen%20wir%20auf%2C%20wi
 eder%20auf%20die%20Stra%C3%9Fe%20zu%20gehen%20und%20ein%20Zeichen%20zu%20
 setzen%20f%C3%BCr%20Demokratie%20und%20Vielfalt.%3Cbr%3E%3C%2Fp%3E%0A%0A%
 0A%0A%3Cp%3EKommt%20am%2009.11%20um%2018%20Uhr%20zum%20Platz%20der%20Deut
 schen%20Einheit%20%28Theatervorplatz%29.%3C%2Fp%3E%0A%0A%0A%0A%3Cp%3EBrin
 gt%20gerne%20Kerzen%2C%20Laternen%20oder%20%C3%84hnliches%20mit.%20Wir%20
 werden%20das%20Licht%20aus%20der%20Marienkirche%20%28Weltkugel%29%20und%2
 0dem%20Dom%20holen%20und%20weitergeben%2C%20damit%20die%20Demokratie%20le
 uchtet%21%3C%2Fp%3E%0A":Vor 35 Jahren fiel eine Mauer\, die Menschen\, ei
 n Land und die Welt spaltete. Eine Chance für die Menschen\, gemeinsam e
 ine demokratische Welt zu gestalten. Wir erinnern des Mauerfalls und eine
 r Demokratiebewegung\, die viele Konflikte ertragen musste und noch gebra
 ucht wird\, wie die Menschen auf den Straßen zum Jahresanfang eindrucksv
 oll gezeigt haben.\n\nDeswegen rufen wir auf\, wieder auf die Straße zu 
 gehen und ein Zeichen zu setzen für Demokratie und Vielfalt.\n\nKommt am
  09.11 um 18 Uhr zum Platz der Deutschen Einheit (Theatervorplatz).\n\nBr
 ingt gerne Kerzen\, Laternen oder Ähnliches mit. Wir werden das Licht au
 s der Marienkirche (Weltkugel) und dem Dom holen und weitergeben\, damit 
 die Demokratie leuchtet!
CLASS:PUBLIC
DTSTART;TZID=Europe/Berlin:20241109T180000
DTEND;TZID=Europe/Berlin:20241109T190000
DTSTAMP:20260424T195353
END:VEVENT
END:VCALENDAR