BEGIN:VCALENDAR
VERSION:2.0
PRODID:gruene-os.de
METHOD:PUBLISH
BEGIN:VTIMEZONE
TZID:Europe/Berlin
X-LIC-LOCATION:Europe/Berlin
BEGIN:DAYLIGHT
TZOFFSETFROM:+0100
TZOFFSETTO:+0200
TZNAME:CEST
DTSTART:19700329T020000
RRULE:FREQ=YEARLY;INTERVAL=1;BYDAY=-1SU;BYMONTH=3
END:DAYLIGHT
BEGIN:STANDARD
TZOFFSETFROM:+0200
TZOFFSETTO:+0100
TZNAME:CET
DTSTART:19701025T030000
RRULE:FREQ=YEARLY;INTERVAL=1;BYDAY=-1SU;BYMONTH=10
END:STANDARD
END:VTIMEZONE
BEGIN:VEVENT
UID:e146bee2495aa18c71dd63d680448f71@gruene-os.de
URL;VALUE=URI:https://gruene-os.de/blog/termine/treffen-der-projektgruppe
 -teilhabe-vielfalt-2/
LOCATION:Lagerhalle: Raum 207, Rolandsmauer 26, Osnabrück
SUMMARY:Treffen der Projektgruppe „Teilhabe & Vielfalt“
DESCRIPTION;ALTREP="data:text/html,%0A%3Cp%3EDie%20%3Ca%20href%3D%22https
 %3A%2F%2Fgruene-os.de%2Fblog%2Ftermine%2Fprojektgruppe-teilhabe-vielfalt%
 2F%22%3EProjektgruppe%20Teilhabe%20%26amp%3B%20Vielfalt%3C%2Fa%3E%20triff
 t%20sich%20am%20Montag%2C%20den%2012.%20Februar%20um%2019%3A30%20Uhr%20in
 %20der%20Lagerhalle%20zum%20n%C3%A4chsten%20Treffen.%20Wenn%20ihr%20dabei
 %20sein%20wollt%2C%20meldet%20euch%20gerne%20mit%20einer%20kurzen%20Mail%
 20bei%20Ina%20%28%3Ca%20href%3D%22https%3A%2F%2Fgruene-os.de%2Fblog%2Fter
 mine%2Fprojektgruppe-teilhabe-vielfalt-2%2F%23%22%3Ehansel%40gruene-os.de
 %3C%2Fa%3E%29%20oder%20schaut%20spontan%20vorbei.%20Wir%20freuen%20uns%20
 auf%20euch%21%3C%2Fp%3E%0A%0A%0A%0A%3Cp%3EUnsere%20Projektgruppen%20stehe
 n%20grunds%C3%A4tzlich%20allen%20Interessierten%20offen%20%E2%80%93%20ega
 l%20ob%20Parteimitglied%20oder%20%28noch%29%20nicht.%20Schaut%20gerne%20m
 al%20rein%21%3C%2Fp%3E%0A":Die Projektgruppe Teilhabe & Vielfalt trifft s
 ich am Montag\, den 12. Februar um 19:30 Uhr in der Lagerhalle zum nächs
 ten Treffen. Wenn ihr dabei sein wollt\, meldet euch gerne mit einer kurz
 en Mail bei Ina (hansel@gruene-os.de) oder schaut spontan vorbei. Wir fre
 uen uns auf euch!\n\nUnsere Projektgruppen stehen grundsätzlich allen In
 teressierten offen – egal ob Parteimitglied oder (noch) nicht. Schaut g
 erne mal rein!
CLASS:PUBLIC
DTSTART;TZID=Europe/Berlin:20240212T193000
DTEND;TZID=Europe/Berlin:20240212T210000
DTSTAMP:20260424T195352
END:VEVENT
END:VCALENDAR