BEGIN:VCALENDAR
VERSION:2.0
PRODID:gruene-os.de
METHOD:PUBLISH
BEGIN:VTIMEZONE
TZID:Europe/Berlin
X-LIC-LOCATION:Europe/Berlin
BEGIN:DAYLIGHT
TZOFFSETFROM:+0100
TZOFFSETTO:+0200
TZNAME:CEST
DTSTART:19700329T020000
RRULE:FREQ=YEARLY;INTERVAL=1;BYDAY=-1SU;BYMONTH=3
END:DAYLIGHT
BEGIN:STANDARD
TZOFFSETFROM:+0200
TZOFFSETTO:+0100
TZNAME:CET
DTSTART:19701025T030000
RRULE:FREQ=YEARLY;INTERVAL=1;BYDAY=-1SU;BYMONTH=10
END:STANDARD
END:VTIMEZONE
BEGIN:VEVENT
UID:0de14889441c611b251b2738abc26a30@gruene-os.de
URL;VALUE=URI:https://gruene-os.de/blog/termine/treffen-der-projektgruppe
 -soziale-stadt-schinkel-3/
LOCATION:Grünes Zentrum, Große Straße 55, Osnabrück
SUMMARY:Treffen der Projektgruppe „Soziale Stadt Schinkel“
DESCRIPTION;ALTREP="data:text/html,%0A%3Cp%3EIn%20der%20Projektgruppe%20t
 auschen%20wir%20uns%20%C3%BCber%20den%20Schinkel%20aus%20und%20planen%20v
 or%20allem%20Veranstaltungen%20und%20Aktionen%20im%20Schinkel.%20Als%20n%
 C3%A4chstes%20planen%20wir%20ein%20Fu%C3%9Fballturnier%20und%20k%C3%B6nne
 n%20immer%20tratkr%C3%A4ftige%20Unterst%C3%BCtzung%20gebrauchen.%20Wenn%2
 0ihr%20teilnehmen%20wollt%2C%20schaut%20gerne%20spontan%20vorbei%20oder%2
 0meldet%20euch%20bei%20Max%3A%20strautmann%40gruene-os.de%20%3C%2Fp%3E%0A
 ":In der Projektgruppe tauschen wir uns über den Schinkel aus und planen
  vor allem Veranstaltungen und Aktionen im Schinkel. Als nächstes planen
  wir ein Fußballturnier und können immer tratkräftige Unterstützung g
 ebrauchen. Wenn ihr teilnehmen wollt\, schaut gerne spontan vorbei oder m
 eldet euch bei Max: strautmann@gruene-os.de
CLASS:PUBLIC
DTSTART;TZID=Europe/Berlin:20230323T190000
DTEND;TZID=Europe/Berlin:20230323T200000
DTSTAMP:20260424T195437
END:VEVENT
END:VCALENDAR