BEGIN:VCALENDAR
VERSION:2.0
PRODID:gruene-os.de
METHOD:PUBLISH
BEGIN:VTIMEZONE
TZID:Europe/Berlin
X-LIC-LOCATION:Europe/Berlin
BEGIN:DAYLIGHT
TZOFFSETFROM:+0100
TZOFFSETTO:+0200
TZNAME:CEST
DTSTART:19700329T020000
RRULE:FREQ=YEARLY;INTERVAL=1;BYDAY=-1SU;BYMONTH=3
END:DAYLIGHT
BEGIN:STANDARD
TZOFFSETFROM:+0200
TZOFFSETTO:+0100
TZNAME:CET
DTSTART:19701025T030000
RRULE:FREQ=YEARLY;INTERVAL=1;BYDAY=-1SU;BYMONTH=10
END:STANDARD
END:VTIMEZONE
BEGIN:VEVENT
UID:81573068ee06b532b1aaedf452152a0c@gruene-os.de
URL;VALUE=URI:https://gruene-os.de/blog/termine/treffen-der-projektgruppe
 -soziale-stadt-schinkel-2/
LOCATION:Grünes Zentrum, Große Straße 55, Osnabrück
SUMMARY:Treffen der Projektgruppe „Soziale Stadt Schinkel“
DESCRIPTION;ALTREP="data:text/html,%0A%3Cp%3ENach%20dem%20erfolgreichen%2
 0Stand%20an%20der%20Sch%C3%BCtzenstra%C3%9Fe%20wollen%20wir%20uns%20nun%2
 0die%20Anregungen%20und%20Meinungen%20der%20Schinkelaner%2Ainnen%20anscha
 uen%20und%20dar%C3%BCber%20diskutieren%2C%20wie%20wir%20das%20ein%20oder%
 20andere%20unterst%C3%BCtzen%20und%20ansto%C3%9Fen%20k%C3%B6nnen.%20Hierf
 %C3%BCr%20treffen%20wir%20uns%20am%20%3Cstrong%3EDonnerstag%2C%20den%2023
 .%20Februar%20um%2019%3A00%20Uhr%20im%20Gr%C3%BCnen%20Zentrum%20%28Gro%C3
 %9Fe%20Str.%2055%29%3C%2Fstrong%3E.%C2%A0%3C%2Fp%3E%0A%0A%0A%0A%3Cp%3EIhr
 %20seid%20herzlich%20eingeladen%20mitzumachen%2C%20egal%20ob%20Schinkelan
 er%2Ain%20oder%20nicht%21%20Meldet%20euch%20gerne%20mit%20einer%20kurzen%
 20Anmeldung%20bei%20Max%3A%20%3Ca%20href%3D%22mailto%3Astrautmann%40gruen
 e-os.de%22%3Estrautmann%40gruene-os.de%3C%2Fa%3E%3C%2Fp%3E%0A":Nach dem e
 rfolgreichen Stand an der Schützenstraße wollen wir uns nun die Anregun
 gen und Meinungen der Schinkelaner*innen anschauen und darüber diskutier
 en\, wie wir das ein oder andere unterstützen und anstoßen können. Hie
 rfür treffen wir uns am Donnerstag\, den 23. Februar um 19:00 Uhr im Gr
 ünen Zentrum (Große Str. 55). \n\nIhr seid herzlich eingeladen mitzuma
 chen\, egal ob Schinkelaner*in oder nicht! Meldet euch gerne mit einer ku
 rzen Anmeldung bei Max: strautmann@gruene-os.de
CLASS:PUBLIC
DTSTART;TZID=Europe/Berlin:20230223T190000
DTEND;TZID=Europe/Berlin:20230223T200000
DTSTAMP:20260424T195509
END:VEVENT
END:VCALENDAR