BEGIN:VCALENDAR
VERSION:2.0
PRODID:gruene-os.de
METHOD:PUBLISH
BEGIN:VTIMEZONE
TZID:Europe/Berlin
X-LIC-LOCATION:Europe/Berlin
BEGIN:DAYLIGHT
TZOFFSETFROM:+0100
TZOFFSETTO:+0200
TZNAME:CEST
DTSTART:19700329T020000
RRULE:FREQ=YEARLY;INTERVAL=1;BYDAY=-1SU;BYMONTH=3
END:DAYLIGHT
BEGIN:STANDARD
TZOFFSETFROM:+0200
TZOFFSETTO:+0100
TZNAME:CET
DTSTART:19701025T030000
RRULE:FREQ=YEARLY;INTERVAL=1;BYDAY=-1SU;BYMONTH=10
END:STANDARD
END:VTIMEZONE
BEGIN:VEVENT
UID:b89cec781b336fd0bc5224a1f20a5450@gruene-os.de
URL;VALUE=URI:https://gruene-os.de/blog/termine/treffen-der-projektgruppe
 -osnabrueck-mobil-2030-2/
LOCATION:Haus der Jugend: Seminarraum 17, Große Gildewart 6-9, Osnabrüc
 k
SUMMARY:Treffen der Projektgruppe „Osnabrück mobil 2030“
DESCRIPTION;ALTREP="data:text/html,%0A%3Cp%3EDie%20Projektgruppe%20besch%
 C3%A4ftigt%20sich%20aktuell%20insbesondere%20mit%20der%20Verhinderung%20d
 er%20A33-Nord%20und%20betreibt%20dazu%20B%C3%BCndnisarbeit.%20Eva%20ist%2
 0Ansprechpartnerin%20bei%20Fragen%3A%20%3Ca%20href%3D%22mailto%3Aguese%40
 gruene-os.de%22%3Eguese%40gruene-os.de%3C%2Fa%3E%20%3C%2Fp%3E%0A":Die Pro
 jektgruppe beschäftigt sich aktuell insbesondere mit der Verhinderung de
 r A33-Nord und betreibt dazu Bündnisarbeit. Eva ist Ansprechpartnerin be
 i Fragen: guese@gruene-os.de
CLASS:PUBLIC
DTSTART;TZID=Europe/Berlin:20230504T183000
DTEND;TZID=Europe/Berlin:20230504T193000
DTSTAMP:20260424T195254
END:VEVENT
END:VCALENDAR