BEGIN:VCALENDAR
VERSION:2.0
PRODID:gruene-os.de
METHOD:PUBLISH
BEGIN:VTIMEZONE
TZID:Europe/Berlin
X-LIC-LOCATION:Europe/Berlin
BEGIN:DAYLIGHT
TZOFFSETFROM:+0100
TZOFFSETTO:+0200
TZNAME:CEST
DTSTART:19700329T020000
RRULE:FREQ=YEARLY;INTERVAL=1;BYDAY=-1SU;BYMONTH=3
END:DAYLIGHT
BEGIN:STANDARD
TZOFFSETFROM:+0200
TZOFFSETTO:+0100
TZNAME:CET
DTSTART:19701025T030000
RRULE:FREQ=YEARLY;INTERVAL=1;BYDAY=-1SU;BYMONTH=10
END:STANDARD
END:VTIMEZONE
BEGIN:VEVENT
UID:ca80157be4f12e0b8f63f2e434b410bc@gruene-os.de
URL;VALUE=URI:https://gruene-os.de/blog/termine/stolpersteinspaziergang/
LOCATION:Sparkasse am Rosenplatz, Osnabrück
SUMMARY:Stolpersteinspaziergang
DESCRIPTION;ALTREP="data:text/html,%0A%3Cp%3E%E2%9C%8A%20Aktiv%20f%C3%BCr
 %20ein%20friedliches%20und%20solidarisches%20Miteinander%2C%20aktiv%20geg
 en%20jede%20Form%20von%20Hass%2C%20Diskriminierung%2C%20Antisemitismus%2C
 %20Rassismus%2C%20Homophobie%20und%20Gewalt.%3C%2Fp%3E%0A%0A%0A%0A%3Cp%3E
 %F0%9F%A9%B6%20Anl%C3%A4sslich%20des%20Gedenkens%20an%20die%20Opfer%20der
 %20Pogromnacht%20laden%20wir%20am%20Samstag%20%289.%20November%29%20um%20
 15%20Uhr%20zu%20einem%20Spaziergang%20durch%20den%20Sch%C3%B6lerberg%20en
 tlang%20ausgew%C3%A4hlter%20Stolpersteine%2A%20ein.%3C%2Fp%3E%0A%0A%0A%0A
 %3Cp%3E%E3%80%B0%EF%B8%8F%20Der%20Spaziergang%20umfasst%20mehrere%20Stati
 onen.%20An%20jeder%20Station%20erfahren%20die%20Teilnehmer%3Ainnen%20etwa
 s%20%C3%BCber%20das%20Schicksal%20des%20Menschen%20hinter%20dem%20jeweili
 gen%20Stolperstein.%3C%2Fp%3E%0A%0A%0A%0A%3Cp%3E%F0%9F%93%8DTreffpunkt%20
 ist%20um%2015%20Uhr%20vor%20der%20Sparkasse%20am%20Rosenplatz.%20Von%20da
 %20geht%20es%20auf%20dem%20rund%2060-min%C3%BCtigen%20Spaziergang%20durch
 %20den%20Sch%C3%B6lerberg.%3C%2Fp%3E%0A%0A%0A%0A%3Cp%3E%E2%9D%97%EF%B8%8F
 Wir%20w%C3%BCrden%20uns%20freuen%2C%20wenn%20m%C3%B6glichst%20viele%20Men
 schen%20uns%20an%20diesem%20Tag%20begleiten%20und%20gemeinsam%20ein%20Zei
 chen%20f%C3%BCr%20die%20Erinnerung%20und%20gegen%20das%20Vergessen%20setz
 en.%3C%2Fp%3E%0A%0A%0A%0A%3Cp%3E%F0%9F%91%89%20Eine%20vorherige%20Anmeldu
 ng%20per%20E-Mail%20%28gruene%40osnabrueck.de%29%20oder%20hier%20per%20DM
 %20erleichtert%20die%20Planung%2C%20ist%20aber%20nicht%20zwingend.%3C%2Fp
 %3E%0A%0A%0A%0A%3Cp%3E%E2%84%B9%EF%B8%8F%20%2AStolpersteine%20erinnern%20
 an%20verfolgte%20oder%20ermordete%20Opfer%20des%20Nationalsozialismus.%20
 Die%2010x10cm%20gro%C3%9Fen%20Betonwu%CC%88rfel%20sind%20mit%20einer%20Me
 ssingplatte%20versehen%2C%20auf%20der%20der%20Name%2C%20das%20Geburts-%2C
 %20Deportationsdatum%20und%20%E2%80%93ort%20sowie%20Angaben%20zum%20Schic
 ksal%20der%20Person%20eingraviert%20sind.%20Stolpersteine%20werden%20in%2
 0den%20Fu%C3%9Fweg%20vor%20den%20Ha%CC%88usern%20verlegt%2C%20in%20denen%
 20die%20Menschen%20zuletzt%20freiwillig%20gelebt%20oder%20gearbeitet%20ha
 ben.%20In%20Osnabr%C3%BCck%20gibt%20es%20%C3%BCber%20300%20Stolpersteine.
 %3C%2Fp%3E%0A":✊ Aktiv für ein friedliches und solidarisches Miteinand
 er\, aktiv gegen jede Form von Hass\, Diskriminierung\, Antisemitismus\, 
 Rassismus\, Homophobie und Gewalt.\n\n🩶 Anlässlich des Gedenkens an d
 ie Opfer der Pogromnacht laden wir am Samstag (9. November) um 15 Uhr zu 
 einem Spaziergang durch den Schölerberg entlang ausgewählter Stolperste
 ine* ein.\n\n〰️ Der Spaziergang umfasst mehrere Stationen. An jeder S
 tation erfahren die Teilnehmer:innen etwas über das Schicksal des Mensch
 en hinter dem jeweiligen Stolperstein.\n\n📍Treffpunkt ist um 15 Uhr vo
 r der Sparkasse am Rosenplatz. Von da geht es auf dem rund 60-minütigen 
 Spaziergang durch den Schölerberg.\n\n❗️Wir würden uns freuen\, wen
 n möglichst viele Menschen uns an diesem Tag begleiten und gemeinsam ein
  Zeichen für die Erinnerung und gegen das Vergessen setzen.\n\n👉 Eine
  vorherige Anmeldung per E-Mail (gruene@osnabrueck.de) oder hier per DM e
 rleichtert die Planung\, ist aber nicht zwingend.\n\nℹ️ *Stolperstein
 e erinnern an verfolgte oder ermordete Opfer des Nationalsozialismus. Die
  10x10cm großen Betonwürfel sind mit einer Messingplatte versehen\, au
 f der der Name\, das Geburts-\, Deportationsdatum und –ort sowie Angabe
 n zum Schicksal der Person eingraviert sind. Stolpersteine werden in den 
 Fußweg vor den Häusern verlegt\, in denen die Menschen zuletzt freiwil
 lig gelebt oder gearbeitet haben. In Osnabrück gibt es über 300 Stolper
 steine.
CLASS:PUBLIC
DTSTART;TZID=Europe/Berlin:20241109T150000
DTEND;TZID=Europe/Berlin:20241109T160000
DTSTAMP:20260423T153514
END:VEVENT
END:VCALENDAR