BEGIN:VCALENDAR
VERSION:2.0
PRODID:gruene-os.de
METHOD:PUBLISH
BEGIN:VTIMEZONE
TZID:Europe/Berlin
X-LIC-LOCATION:Europe/Berlin
BEGIN:DAYLIGHT
TZOFFSETFROM:+0100
TZOFFSETTO:+0200
TZNAME:CEST
DTSTART:19700329T020000
RRULE:FREQ=YEARLY;INTERVAL=1;BYDAY=-1SU;BYMONTH=3
END:DAYLIGHT
BEGIN:STANDARD
TZOFFSETFROM:+0200
TZOFFSETTO:+0100
TZNAME:CET
DTSTART:19701025T030000
RRULE:FREQ=YEARLY;INTERVAL=1;BYDAY=-1SU;BYMONTH=10
END:STANDARD
END:VTIMEZONE
BEGIN:VEVENT
UID:fc5380b242a3dd2db6498fd8898f19d5@gruene-os.de
URL;VALUE=URI:https://gruene-os.de/blog/termine/steckt-die-mobilitaetswen
 de-im-stau/
LOCATION:Lagerhalle (Spitzboden)
SUMMARY:Steckt die Mobilitätswende im Stau?
DESCRIPTION;ALTREP="data:text/html,%0A%3Ch2%20class%3D%22wp-block-heading
 %22%3EMitgliederversammlung%3C%2Fh2%3E%0A%0A%0A%0A%3Cp%3ENervig%2C%20stre
 ssig%2C%20gef%C3%A4hrlich%3A%20so%20nehmen%20viele%20den%20Osnabr%C3%BCck
 er%20Verkehr%20wahr.%20Nicht%20ohne%20Grund%20haben%20vor%20drei%20Jahren
 %20rund%2010.000%20Menschen%20den%20Radentscheid%20unterst%C3%BCtzt.%20Da
 s%20Ziel%20dahinter%3A%20Stra%C3%9Fen%20sicherer%20machen%20und%20dazu%20
 motivieren%2C%20das%20Auto%20stehen%20zu%20lassen.%20Seitdem%20ist%20eini
 ges%20passiert%2C%20wenn%20wir%20an%20die%20getrennten%20Ampelschaltungen
 %20und%20ad-hoc%20Ma%C3%9Fnahmen%20am%20Wallring%2C%20die%20neuen%20Fahrr
 adstra%C3%9Fen%2C%20das%20Fahrradparkhaus%20am%20Hauptbahnhof%20oder%20ma
 nchen%20sanierten%20Stra%C3%9Fenabschnitt%20denken.%3C%2Fp%3E%0A%0A%0A%0A
 %3Cp%3EUnd%20dennoch%20hapert%20es.%20Seit%20dem%20Beschluss%20zum%20auto
 freien%20Domhof%20sind%20mittlerweile%20%C3%BCber%20drei%20Jahre%20vergan
 gen%20%E2%80%93%20passiert%20ist%20dort%20bisher%20nichts.%20Am%20Wall%20
 gibt%20es%20immer%20noch%20viele%20Stellen%2C%20die%20noch%20nicht%20ents
 ch%C3%A4rft%20wurden%20und%20der%20Vorrang%20f%C3%BCr%20den%20Umweltverbu
 nd%20an%20der%20Natruper%20Stra%C3%9Fe%20l%C3%A4sst%20noch%20auf%20sich%2
 0warten.%20Wir%20fragen%20uns%3A%20woran%20liegt%20das%3F%20Was%20braucht
 %20es%2C%20damit%20die%20Mobilit%C3%A4tswende%20hier%20endlich%20wieder%2
 0Fahrt%20aufnimmt%3F%20K%C3%B6nnen%20wir%20aus%20anderen%20St%C3%A4dten%2
 0lernen%3F%3C%2Fp%3E%0A%0A%0A%0A%3Cp%3EDar%C3%BCber%20sprechen%20wir%20mi
 t%26nbsp%3B%3Cstrong%3EMichael%20Kopatz%3C%2Fstrong%3E%26nbsp%3B%28Stadtb
 aurat%20der%20Stadt%20Marburg%29.%20Der%20Osnabr%C3%BCcker%20bringt%20in%
 20Marburg%20die%20Mobilit%C3%A4tswende%20voran%20%E2%80%93%20pragmatisch%
 2C%20schnell%20und%20innovativ.%20Au%C3%9Ferdem%20haben%20wir%26nbsp%3B%3
 Cstrong%3EChristoph%20Drepper%3C%2Fstrong%3E%26nbsp%3B%28Osnabr%C3%BCcker
 %20Radentscheid%29%20eingeladen.%20Und%20wir%20freuen%20uns%20%C3%BCber%2
 6nbsp%3B%3Cstrong%3EVolkmar%20Seliger%3C%2Fstrong%3E%26nbsp%3B%28verkehrs
 politischer%20Sprecher%20der%20Ratsfraktion%29%2C%20der%20uns%20zum%20akt
 uellen%20Stand%20der%20Mobilit%C3%A4tswende%20berichtet.%3C%2Fp%3E%0A%0A%
 0A%0A%3Cp%3EIm%20Anschluss%20an%20die%20Diskussion%20starten%20wir%20gege
 n%2019%3A00%20%2F%2019%3A30%20Uhr%20in%20unsere%20vierte%20Mitgliedervers
 ammlung%20des%20Jahres.%20Wir%20beschlie%C3%9Fen%20einen%20Haushalt%20202
 6%2C%20w%C3%A4hlen%20zwei%20Pl%C3%A4tze%20im%20Vorstand%20nach%20und%20bl
 icken%20gemeinsam%20auf%20das%20Kommunalwahljahr%202026.%20%3C%2Fp%3E%0A%
 0A%0A%0A%3Cp%3EDar%C3%BCber%20hinaus%20m%C3%BCssen%20wir%20zwei%20neue%20
 Beisitzer%2Ainnen%20f%C3%BCr%20die%20Vorstandsperiode%202024-26%20nachw%C
 3%A4hlen.%20Weil%20Maurits%20und%20Cem%20leider%20aufh%C3%B6ren%2C%20w%C3
 %A4hlen%20wir%20ihre%20beiden%20Pl%C3%A4tze%20nach.%20Gew%C3%A4hlt%20wird
 %20nur%20f%C3%BCr%20ein%20Jahr%20bis%20zur%20n%C3%A4chsten%20regul%C3%A4r
 en%20Vorstandswahl.%20Der%20Vorstand%20muss%20insgesamt%20mindestquotiert
 %20sein.%20Demnach%20k%C3%B6nnen%20sich%20alle%20%E2%80%93%20unabh%C3%A4n
 gig%20vom%20Geschlecht%20%E2%80%93%20auf%20die%20beiden%20Pl%C3%A4tze%20b
 ewerben.%3C%2Fp%3E%0A%0A%0A%0A%3Cp%3EInteresse%20geweckt%3F%20Dann%20freu
 en%20wir%20uns%20auf%20Eure%20Bewerbungen.%20Sendet%20uns%20daf%C3%BCr%20
 bis%20zum%2022.%20Oktober%20eine%20schriftliche%20Bewerbung%20per%20E-Mai
 l%20%28%3Ca%20href%3D%22mailto%3Apartei%40gruene-os.de%22%3Epartei%40grue
 ne-os.de%3C%2Fa%3E%29%20mit%20Informationen%20%C3%BCber%20euch%20und%20wa
 rum%20ihr%20als%20Beisitzer%2Ain%20kandidieren%20m%C3%B6chtet.%20Wir%20ve
 rschicken%20dann%20alle%20Bewerbungen%20vor%20der%20Versammlung%20einmal%
 20gesammelt%20an%20alle%20Mitglieder.%20Spontane%20Bewerbungen%20auf%20de
 r%20Mitgliederversammlung%20sind%20auch%20immer%20m%C3%B6glich.%20Falls%2
 0Ihr%20Fragen%20zur%20Vorstandsarbeit%20oder%20zum%20Bewerbungsverfahren%
 20habt%2C%20meldet%20euch%20gerne%20bei%20Max%20%28%3Ca%20href%3D%22mailt
 o%3Astrautmann%40gruene-os.de%22%3Estrautmann%40gruene-os.de%3C%2Fa%3E%29
 .%3C%2Fp%3E%0A%0A%0A%0A%3Cp%3EWir%20schlagen%20folgende%20Tagesordnung%20
 vor%3A%3C%2Fp%3E%0A%0A%0A%0A%3Col%20class%3D%22wp-block-list%22%3E%0A%3Cl
 i%3EBegr%C3%BC%C3%9Fung%20und%20Formalia%3C%2Fli%3E%0A%0A%0A%0A%3Cli%3EHa
 ushalt%202026%3C%2Fli%3E%0A%0A%0A%0A%3Cli%3ENachwahlen%3A%20Zwei%20Beisit
 zer%2Ainnen%20f%C3%BCr%20den%20Vorstand%3C%2Fli%3E%0A%0A%0A%0A%3Cli%3EAus
 blick%20auf%20das%20Kommunalwahljahr%202026%3C%2Fli%3E%0A%0A%0A%0A%3Cli%3
 EVerschiedenes%3C%2Fli%3E%0A%3C%2Fol%3E%0A%0A%0A%0A%3Cp%3E%3Cstrong%3EAuf
 gepasst%3A%3C%2Fstrong%3E%26nbsp%3BAlle%20weiblichen%20Mitglieder%20sind%
 20eingeladen%2C%20am%20Montag%2C%20den%2020.%20Oktober%20um%2019%3A00%20U
 hr%20einmal%20die%20Versammlung%20online%20durchzusprechen%20%E2%80%93%20
 so%20wie%20es%20unsere%20Satzung%20vor%20Wahl-Mitgliederversammlungen%20v
 orsieht.%20Den%20Link%20zur%20Teilnahme%20erhaltet%20ihr%20bei%20der%20An
 meldung%20von%20Luca%20%28%3Ca%20href%3D%22mailto%3Awirkus%40gruene-os.de
 %22%3Ewirkus%40gruene-os.de%3C%2Fa%3E%29.%3C%2Fp%3E%0A%0A%0A%0A%3Cp%3EAll
 e%20Neumitglieder%20und%20Interessierten%20sind%20au%C3%9Ferdem%20wieder%
 20herzlich%20eingeladen%2C%20am%20Abend%20der%20Mitgliederversammlung%20s
 chon%20um%2017%3A45%20Uhr%20im%20Spitzboden%20der%20Lagerhalle%20zu%20sei
 n.%20Wir%20sprechen%20dann%20%C3%BCber%20den%20Ablauf%20der%20Versammlung
 %2C%20kl%C3%A4ren%20Abk%C3%BCrzungen%20und%20m%C3%B6gliche%20Fragen.%3C%2
 Fp%3E%0A":Mitgliederversammlung\n\nNervig\, stressig\, gefährlich: so ne
 hmen viele den Osnabrücker Verkehr wahr. Nicht ohne Grund haben vor drei
  Jahren rund 10.000 Menschen den Radentscheid unterstützt. Das Ziel dahi
 nter: Straßen sicherer machen und dazu motivieren\, das Auto stehen zu l
 assen. Seitdem ist einiges passiert\, wenn wir an die getrennten Ampelsch
 altungen und ad-hoc Maßnahmen am Wallring\, die neuen Fahrradstraßen\, 
 das Fahrradparkhaus am Hauptbahnhof oder manchen sanierten Straßenabschn
 itt denken.\n\nUnd dennoch hapert es. Seit dem Beschluss zum autofreien D
 omhof sind mittlerweile über drei Jahre vergangen – passiert ist dort 
 bisher nichts. Am Wall gibt es immer noch viele Stellen\, die noch nicht 
 entschärft wurden und der Vorrang für den Umweltverbund an der Natruper
  Straße lässt noch auf sich warten. Wir fragen uns: woran liegt das? Wa
 s braucht es\, damit die Mobilitätswende hier endlich wieder Fahrt aufni
 mmt? Können wir aus anderen Städten lernen?\n\nDarüber sprechen wir mi
 t Michael Kopatz (Stadtbaurat der Stadt Marburg). Der Osnabrücker brin
 gt in Marburg die Mobilitätswende voran – pragmatisch\, schnell und in
 novativ. Außerdem haben wir Christoph Drepper (Osnabrücker Radentsche
 id) eingeladen. Und wir freuen uns über Volkmar Seliger (verkehrspolit
 ischer Sprecher der Ratsfraktion)\, der uns zum aktuellen Stand der Mobil
 itätswende berichtet.\n\nIm Anschluss an die Diskussion starten wir gege
 n 19:00 / 19:30 Uhr in unsere vierte Mitgliederversammlung des Jahres. Wi
 r beschließen einen Haushalt 2026\, wählen zwei Plätze im Vorstand nac
 h und blicken gemeinsam auf das Kommunalwahljahr 2026.\n\nDarüber hinaus
  müssen wir zwei neue Beisitzer*innen für die Vorstandsperiode 2024-26 
 nachwählen. Weil Maurits und Cem leider aufhören\, wählen wir ihre bei
 den Plätze nach. Gewählt wird nur für ein Jahr bis zur nächsten regul
 ären Vorstandswahl. Der Vorstand muss insgesamt mindestquotiert sein. De
 mnach können sich alle – unabhängig vom Geschlecht – auf die beiden
  Plätze bewerben.\n\nInteresse geweckt? Dann freuen wir uns auf Eure Bew
 erbungen. Sendet uns dafür bis zum 22. Oktober eine schriftliche Bewerbu
 ng per E-Mail (partei@gruene-os.de) mit Informationen über euch und waru
 m ihr als Beisitzer*in kandidieren möchtet. Wir verschicken dann alle Be
 werbungen vor der Versammlung einmal gesammelt an alle Mitglieder. Sponta
 ne Bewerbungen auf der Mitgliederversammlung sind auch immer möglich. Fa
 lls Ihr Fragen zur Vorstandsarbeit oder zum Bewerbungsverfahren habt\, me
 ldet euch gerne bei Max (strautmann@gruene-os.de).\n\nWir schlagen folgen
 de Tagesordnung vor:\n\nBegrüßung und Formalia\n\nHaushalt 2026\n\nNach
 wahlen: Zwei Beisitzer*innen für den Vorstand\n\nAusblick auf das Kommun
 alwahljahr 2026\n\nVerschiedenes\n\nAufgepasst: Alle weiblichen Mitglied
 er sind eingeladen\, am Montag\, den 20. Oktober um 19:00 Uhr einmal die 
 Versammlung online durchzusprechen – so wie es unsere Satzung vor Wahl-
 Mitgliederversammlungen vorsieht. Den Link zur Teilnahme erhaltet ihr bei
  der Anmeldung von Luca (wirkus@gruene-os.de).\n\nAlle Neumitglieder und 
 Interessierten sind außerdem wieder herzlich eingeladen\, am Abend der M
 itgliederversammlung schon um 17:45 Uhr im Spitzboden der Lagerhalle zu s
 ein. Wir sprechen dann über den Ablauf der Versammlung\, klären Abkürz
 ungen und mögliche Fragen.
CLASS:PUBLIC
DTSTART;TZID=Europe/Berlin:20251029T180000
DTEND;TZID=Europe/Berlin:20251029T190000
DTSTAMP:20260424T195439
END:VEVENT
END:VCALENDAR