BEGIN:VCALENDAR
VERSION:2.0
PRODID:gruene-os.de
METHOD:PUBLISH
BEGIN:VTIMEZONE
TZID:Europe/Berlin
X-LIC-LOCATION:Europe/Berlin
BEGIN:DAYLIGHT
TZOFFSETFROM:+0100
TZOFFSETTO:+0200
TZNAME:CEST
DTSTART:19700329T020000
RRULE:FREQ=YEARLY;INTERVAL=1;BYDAY=-1SU;BYMONTH=3
END:DAYLIGHT
BEGIN:STANDARD
TZOFFSETFROM:+0200
TZOFFSETTO:+0100
TZNAME:CET
DTSTART:19701025T030000
RRULE:FREQ=YEARLY;INTERVAL=1;BYDAY=-1SU;BYMONTH=10
END:STANDARD
END:VTIMEZONE
BEGIN:VEVENT
UID:2f8a056729592f2f10950158f64c7a2b@gruene-os.de
URL;VALUE=URI:https://gruene-os.de/blog/termine/stadtfuehrung-mit-den-osn
 abruecker-gruenen-echte-osnabrueckerinnen/
LOCATION:Rathaustreppe, Marktplatz, Osnabrück
SUMMARY:Stadtführung mit den Osnabrücker GRÜNEN: „Echte Osnabrücker
 innen“
DESCRIPTION;ALTREP="data:text/html,%0A%3Cp%3EAnl%C3%A4sslich%20des%20Inte
 rnationalen%20Frauentages%20gehen%20wir%20auf%20Spurensuche%20in%20unsere
 r%20Stadt%20und%20begeben%20uns%20auf%20eine%20Zeitreise%20durch%20die%20
 vergangenen%20Jahrhunderte.%20Wir%20betrachten%20Lebensl%C3%A4ufe%20von%2
 0Frauen%2C%20die%20in%20Osnabr%C3%BCck%20lebten%20und%20f%C3%BCr%20ihre%2
 0jeweiligen%20Epochen%20recht%20ungew%C3%B6hnliche%20Zeitgenossinnen%20wa
 ren.%3Cbr%3EBer%C3%BChmt%20sind%20sie%20nicht%2C%20die%20Frauen%2C%20die%
 20in%20dieser%20F%C3%BChrung%20vorgestellt%20werden.%20Sie%20hatten%20auc
 h%20keinen%20Einfluss%20auf%20die%20Stadtgeschichte.%20Sie%20lebten%20in%
 20Osnabr%C3%BCck%20und%20das%20ist%20oberfl%C3%A4chlich%20betrachtet%20da
 s%20Einzige%2C%20was%20sie%20verbindet.%20Dennoch%20werden%20sie%20in%20d
 ieser%20F%C3%BChrung%20nicht%20als%20Beispiel%20f%C3%BCr%20%E2%80%9Edie%2
 0Frau%E2%80%9C%20in%20ihrem%20jeweiligen%20Jahrhundert%20oder%20ihrer%20j
 eweiligen%20Schicht%20vorgestellt.%20Sie%20bleiben%20Elfriede%20Scholz%20
 oder%20Jenny%20M%C3%B6ser%20mit%20ihrem%20jeweils%20eigenen%20Lebenslauf%
 2C%20aber%20auch%20mit%20ihren%20ganz%20pers%C3%B6nlichen%20W%C3%BCnschen
 %20und%20Zielen.%20Diese%20ganz%20pers%C3%B6nlichen%20Dinge%20erfahren%20
 wir%20aus%20ihren%20Tageb%C3%BCchern%2C%20Briefen%20und%2C%20so%20ungew%C
 3%B6hnlich%20es%20klingt%2C%20manchmal%20auch%20aus%20st%C3%A4dtischen%20
 Akten.%3C%2Fp%3E%0A%0A%0A%0A%3Cp%3E%3Cbr%3ETermin%3A%20Dienstag%2C%20den%
 2014.%20M%C3%A4rz%202023%3Cbr%3EDauer%3A%201%2C5%20bis%202%20Stunden%3Cbr
 %3ETreffpunkt%3A%2017%3A00%20Uhr%20Rathaustreppe%20%28Marktplatz%29%3Cbr%
 3E%3C%2Fp%3E%0A%0A%0A%0A%3Cp%3EUm%20vorherige%20verbindliche%20Anmeldung%
 20bis%20zum%207.%20M%C3%A4rz%20bitten%20wir%20unter%20partei%40gruene-os.
 de%20oder%200541-24550.%3C%2Fp%3E%0A":Anlässlich des Internationalen Fra
 uentages gehen wir auf Spurensuche in unserer Stadt und begeben uns auf e
 ine Zeitreise durch die vergangenen Jahrhunderte. Wir betrachten Lebensl
 äufe von Frauen\, die in Osnabrück lebten und für ihre jeweiligen Epoc
 hen recht ungewöhnliche Zeitgenossinnen waren.Berühmt sind sie nicht\, 
 die Frauen\, die in dieser Führung vorgestellt werden. Sie hatten auch k
 einen Einfluss auf die Stadtgeschichte. Sie lebten in Osnabrück und das 
 ist oberflächlich betrachtet das Einzige\, was sie verbindet. Dennoch we
 rden sie in dieser Führung nicht als Beispiel für „die Frau“ in ihr
 em jeweiligen Jahrhundert oder ihrer jeweiligen Schicht vorgestellt. Sie 
 bleiben Elfriede Scholz oder Jenny Möser mit ihrem jeweils eigenen Leben
 slauf\, aber auch mit ihren ganz persönlichen Wünschen und Zielen. Dies
 e ganz persönlichen Dinge erfahren wir aus ihren Tagebüchern\, Briefen 
 und\, so ungewöhnlich es klingt\, manchmal auch aus städtischen Akten.\
 n\nTermin: Dienstag\, den 14. März 2023Dauer: 1\,5 bis 2 StundenTreffpun
 kt: 17:00 Uhr Rathaustreppe (Marktplatz)\n\nUm vorherige verbindliche Anm
 eldung bis zum 7. März bitten wir unter partei@gruene-os.de oder 0541-24
 550.
CLASS:PUBLIC
DTSTART;TZID=Europe/Berlin:20230314T170000
DTEND;TZID=Europe/Berlin:20230314T180000
DTSTAMP:20260424T195508
END:VEVENT
END:VCALENDAR