BEGIN:VCALENDAR
VERSION:2.0
PRODID:gruene-os.de
METHOD:PUBLISH
BEGIN:VTIMEZONE
TZID:Europe/Berlin
X-LIC-LOCATION:Europe/Berlin
BEGIN:DAYLIGHT
TZOFFSETFROM:+0100
TZOFFSETTO:+0200
TZNAME:CEST
DTSTART:19700329T020000
RRULE:FREQ=YEARLY;INTERVAL=1;BYDAY=-1SU;BYMONTH=3
END:DAYLIGHT
BEGIN:STANDARD
TZOFFSETFROM:+0200
TZOFFSETTO:+0100
TZNAME:CET
DTSTART:19701025T030000
RRULE:FREQ=YEARLY;INTERVAL=1;BYDAY=-1SU;BYMONTH=10
END:STANDARD
END:VTIMEZONE
BEGIN:VEVENT
UID:43ba1d416a8d1e22d33d33daf405a89f@gruene-os.de
URL;VALUE=URI:https://gruene-os.de/blog/termine/sommerfruehstueck-buerger
 verein-schinkel-ost/
LOCATION:Wiese am Spielplatz am Bornheidesee, Osnabrück
SUMMARY:Sommerfrühstück Bürgerverein Schinkel-Ost
DESCRIPTION;ALTREP="data:text/html,%0A%3Cp%3EAm%20kommenden%20Sonntag%20v
 eranstaltet%20der%20B%C3%BCrgerverein%20Schinkel-Ost%20e.V.%20sein%20Somm
 erfr%C3%BChst%C3%BCck%20am%20Bornheidesee%20mit%20Musik%20und%20hoffentli
 ch%20bestem%20Wetter.%20Selbst%20mitgebracht%20werden%20m%C3%BCssen%20Kaf
 fee%2C%20Fr%C3%BChst%C3%BCck%20und%20Geschirr.%20Wir%20haben%20als%20Part
 ei%20einen%20Tisch%20reserviert%20und%20wenn%20ihr%20dazukommen%20wollt%2
 C%20dann%20meldet%20Euch%20gerne%20bei%20Karola%20an%20%28%3Ca%20href%3D%
 22mailto%3Apartei%40gruene-os.de%22%3Epartei%40gruene-os.de%3C%2Fa%3E%29.
 %C2%A0%3C%2Fp%3E%0A%0A%0A%0A%3Cp%3E%3C%2Fp%3E%0A":Am kommenden Sonntag ve
 ranstaltet der Bürgerverein Schinkel-Ost e.V. sein Sommerfrühstück am 
 Bornheidesee mit Musik und hoffentlich bestem Wetter. Selbst mitgebracht 
 werden müssen Kaffee\, Frühstück und Geschirr. Wir haben als Partei ei
 nen Tisch reserviert und wenn ihr dazukommen wollt\, dann meldet Euch ger
 ne bei Karola an (partei@gruene-os.de). 
CLASS:PUBLIC
DTSTART;TZID=Europe/Berlin:20250817T100000
DTEND;TZID=Europe/Berlin:20250817T110000
DTSTAMP:20260424T195347
END:VEVENT
END:VCALENDAR