BEGIN:VCALENDAR
VERSION:2.0
PRODID:gruene-os.de
METHOD:PUBLISH
BEGIN:VTIMEZONE
TZID:Europe/Berlin
X-LIC-LOCATION:Europe/Berlin
BEGIN:DAYLIGHT
TZOFFSETFROM:+0100
TZOFFSETTO:+0200
TZNAME:CEST
DTSTART:19700329T020000
RRULE:FREQ=YEARLY;INTERVAL=1;BYDAY=-1SU;BYMONTH=3
END:DAYLIGHT
BEGIN:STANDARD
TZOFFSETFROM:+0200
TZOFFSETTO:+0100
TZNAME:CET
DTSTART:19701025T030000
RRULE:FREQ=YEARLY;INTERVAL=1;BYDAY=-1SU;BYMONTH=10
END:STANDARD
END:VTIMEZONE
BEGIN:VEVENT
UID:7b94de89c5c5457d3f0a0ecee89f654a@gruene-os.de
URL;VALUE=URI:https://gruene-os.de/blog/termine/shame-european-stories-au
 sstellungsbesuch-mit-karl-haucke/
LOCATION:Hase49
SUMMARY:SHAME – European Stories: Ausstellungsbesuch mit Karl Haucke
DESCRIPTION;ALTREP="data:text/html,%0A%3Cp%3EWir%20laden%20herzlich%20zu%
 20einem%20begleiteten%20Rundgang%20durch%20die%20Ausstellung%20%3Cem%3ESH
 AME%20%E2%80%93%20European%20Stories%3C%2Fem%3E%20im%20Kunstraum%20hase29
 %20ein.%20Der%20Rundgang%20wird%20von%20%3Cstrong%3EKarl%20Haucke%3C%2Fst
 rong%3E%2C%20Mitbegr%C3%BCnder%20des%20Vereins%20%3Cstrong%3EUMSTEUERN%21
 %20Robin%20Sisterhood%20e.V.%3C%2Fstrong%3E%20und%20Leihgeber%20der%20Aus
 stellung%2C%20begleitet.%20Als%20Betroffener%20von%20sexualisierter%20Gew
 alt%20engagiert%20er%20sich%20europaweit%20f%C3%BCr%20Aufkl%C3%A4rung%20u
 nd%20Pr%C3%A4vention.%3C%2Fp%3E%0A%0A%0A%0A%3Cp%3EDer%20Rundgang%20erm%C3
 %B6glicht%20einen%20behutsamen%20Einstieg%20in%20ein%20schwieriges%20Them
 a.%20In%20offener%20und%20sensibler%20Atmosph%C3%A4re%20erhalten%20Besuch
 er%2Ainnen%20Einblicke%20in%20unterschiedliche%20Perspektiven%20Betroffen
 er%20und%20in%20gesellschaftliche%20Zusammenh%C3%A4nge%20%E2%80%93%20etwa
 %20zu%20den%20langfristigen%20Folgen%20sexualisierter%20Gewalt%2C%20zu%20
 Pr%C3%A4vention%2C%20Aufarbeitung%20und%20strukturellen%20Bedingungen%20v
 on%20Gewalt%20an%20Kindern%20und%20Jugendlichen.%3C%2Fp%3E%0A%0A%0A%0A%3C
 p%3E%3C%2Fp%3E%0A":Wir laden herzlich zu einem begleiteten Rundgang durch
  die Ausstellung SHAME – European Stories im Kunstraum hase29 ein. Der 
 Rundgang wird von Karl Haucke\, Mitbegründer des Vereins UMSTEUERN! Robi
 n Sisterhood e.V. und Leihgeber der Ausstellung\, begleitet. Als Betroffe
 ner von sexualisierter Gewalt engagiert er sich europaweit für Aufkläru
 ng und Prävention.\n\nDer Rundgang ermöglicht einen behutsamen Einstieg
  in ein schwieriges Thema. In offener und sensibler Atmosphäre erhalten 
 Besucher*innen Einblicke in unterschiedliche Perspektiven Betroffener und
  in gesellschaftliche Zusammenhänge – etwa zu den langfristigen Folgen
  sexualisierter Gewalt\, zu Prävention\, Aufarbeitung und strukturellen 
 Bedingungen von Gewalt an Kindern und Jugendlichen.
CLASS:PUBLIC
DTSTART;TZID=Europe/Berlin:20260211T180000
DTEND;TZID=Europe/Berlin:20260211T190000
DTSTAMP:20260424T195529
END:VEVENT
END:VCALENDAR