BEGIN:VCALENDAR
VERSION:2.0
PRODID:gruene-os.de
METHOD:PUBLISH
BEGIN:VTIMEZONE
TZID:Europe/Berlin
X-LIC-LOCATION:Europe/Berlin
BEGIN:DAYLIGHT
TZOFFSETFROM:+0100
TZOFFSETTO:+0200
TZNAME:CEST
DTSTART:19700329T020000
RRULE:FREQ=YEARLY;INTERVAL=1;BYDAY=-1SU;BYMONTH=3
END:DAYLIGHT
BEGIN:STANDARD
TZOFFSETFROM:+0200
TZOFFSETTO:+0100
TZNAME:CET
DTSTART:19701025T030000
RRULE:FREQ=YEARLY;INTERVAL=1;BYDAY=-1SU;BYMONTH=10
END:STANDARD
END:VTIMEZONE
BEGIN:VEVENT
UID:5625adb7269263a7b1a0287d20774c68@gruene-os.de
URL;VALUE=URI:https://gruene-os.de/blog/termine/schuelerinnen-diskutieren
 -mit-den-btw-kandidatinnen/
LOCATION:
SUMMARY:Schüler*innen diskutieren mit den BTW-Kandidat*innen
DESCRIPTION;ALTREP="data:text/html,%0A%3Cp%3EAm%20Freitag%2C%2017.%20Janu
 ar%2C%20diskutieren%20die%20Sch%C3%BCler%2Ainnen%20des%20BBS%20Marienheim
 %20mit%20den%20Kandidat%2Ainnen%20der%20verschiedenen%20Parteien%20%C3%BC
 ber%20die%20kommenden%20Bundestagswahl.%20%3C%2Fp%3E%0A%0A%0A%0A%3Cp%3EUn
 sere%20Direktkandidatin%20Luca%20Wirkus%20ist%20f%C3%BCr%20uns%20vor%20Or
 t%2C%20um%20unsere%20GR%C3%9CNEN%20Standpunkte%20zu%20vertreten.%3C%2Fp%3
 E%0A%0A%0A%0A%3Cp%3E%3Cem%3EDie%20Veranstaltung%20ist%20nicht%20%C3%B6ffe
 ntlich.%20%3C%2Fem%3E%3C%2Fp%3E%0A":Am Freitag\, 17. Januar\, diskutieren
  die Schüler*innen des BBS Marienheim mit den Kandidat*innen der verschi
 edenen Parteien über die kommenden Bundestagswahl.\n\nUnsere Direktkandi
 datin Luca Wirkus ist für uns vor Ort\, um unsere GRÜNEN Standpunkte zu
  vertreten.\n\nDie Veranstaltung ist nicht öffentlich.
CLASS:PUBLIC
DTSTART;TZID=Europe/Berlin:20250117T100000
DTEND;TZID=Europe/Berlin:20250117T120000
DTSTAMP:20260424T195136
END:VEVENT
END:VCALENDAR