BEGIN:VCALENDAR
VERSION:2.0
PRODID:gruene-os.de
METHOD:PUBLISH
BEGIN:VTIMEZONE
TZID:Europe/Berlin
X-LIC-LOCATION:Europe/Berlin
BEGIN:DAYLIGHT
TZOFFSETFROM:+0100
TZOFFSETTO:+0200
TZNAME:CEST
DTSTART:19700329T020000
RRULE:FREQ=YEARLY;INTERVAL=1;BYDAY=-1SU;BYMONTH=3
END:DAYLIGHT
BEGIN:STANDARD
TZOFFSETFROM:+0200
TZOFFSETTO:+0100
TZNAME:CET
DTSTART:19701025T030000
RRULE:FREQ=YEARLY;INTERVAL=1;BYDAY=-1SU;BYMONTH=10
END:STANDARD
END:VTIMEZONE
BEGIN:VEVENT
UID:d7a8a0b25fd5c10cce686900e4f9e4e7@gruene-os.de
URL;VALUE=URI:https://gruene-os.de/blog/termine/schinkel-isst-bunt/
LOCATION:Ebertallee, Osnabrück
SUMMARY:Schinkel isst bunt
DESCRIPTION;ALTREP="data:text/html,%0A%3Cp%3EBald%20findet%20wieder%20das
 %20allj%C3%A4hrliche%20%E2%80%9CSchinkel%20isst%20bunt%E2%80%9D%20an%20de
 r%20Ebertallee%20im%20Stadtteil%20Schinkel%20statt.%20Bei%20dem%20Stadtte
 ilfest%20kommt%20die%20Nachbarschaft%20im%20Schinkel%20zusammen%2C%20alle
 %20bringen%20etwas%20zu%20Essen%20mit%20-%20h%C3%A4ufig%20die%20jeweilige
 n%20kulturellen%20Spezialit%C3%A4ten%20-%20und%20kommen%20ins%20Gespr%C3%
 A4ch.%20Wir%20haben%20wieder%20einen%20Tisch%20reserviert%20und%20laden%2
 0euch%20herzlich%20ein%2C%20mitzumachen%20%28auch%20nicht-Schinkelaner%2A
 innen%20sind%20aufgerufen%21%29.%20Bei%20Interesse%20meldet%20euch%20gern
 e%20bei%20Karola%3A%C2%A0%3Ca%20href%3D%22mailto%3Apartei%40gruene-os.de%
 22%3Epartei%40gruene-os.de%3C%2Fa%3E%C2%A0%3Cbr%3E%3C%2Fp%3E%0A":Bald fin
 det wieder das alljährliche “Schinkel isst bunt” an der Ebertallee i
 m Stadtteil Schinkel statt. Bei dem Stadtteilfest kommt die Nachbarschaft
  im Schinkel zusammen\, alle bringen etwas zu Essen mit - häufig die jew
 eiligen kulturellen Spezialitäten - und kommen ins Gespräch. Wir haben 
 wieder einen Tisch reserviert und laden euch herzlich ein\, mitzumachen (
 auch nicht-Schinkelaner*innen sind aufgerufen!). Bei Interesse meldet euc
 h gerne bei Karola: partei@gruene-os.de 
CLASS:PUBLIC
DTSTART;TZID=Europe/Berlin:20250823T170000
DTEND;TZID=Europe/Berlin:20250823T180000
DTSTAMP:20260424T193802
END:VEVENT
END:VCALENDAR