BEGIN:VCALENDAR
VERSION:2.0
PRODID:gruene-os.de
METHOD:PUBLISH
BEGIN:VTIMEZONE
TZID:Europe/Berlin
X-LIC-LOCATION:Europe/Berlin
BEGIN:DAYLIGHT
TZOFFSETFROM:+0100
TZOFFSETTO:+0200
TZNAME:CEST
DTSTART:19700329T020000
RRULE:FREQ=YEARLY;INTERVAL=1;BYDAY=-1SU;BYMONTH=3
END:DAYLIGHT
BEGIN:STANDARD
TZOFFSETFROM:+0200
TZOFFSETTO:+0100
TZNAME:CET
DTSTART:19701025T030000
RRULE:FREQ=YEARLY;INTERVAL=1;BYDAY=-1SU;BYMONTH=10
END:STANDARD
END:VTIMEZONE
BEGIN:VEVENT
UID:31f2590e700bb28d5ed308b86e6923f9@gruene-os.de
URL;VALUE=URI:https://gruene-os.de/blog/termine/save-the-date-wahlkampfau
 ftakt/
LOCATION:Start an der Kunsthalle, Rißmüllerplatz, Osnabrück
SUMMARY:Landespolitische Radtour mit Anne Kura und Volker Bajus
DESCRIPTION;ALTREP="data:text/html,%0A%3Cp%3EAm%2027.%20August%20veransta
 lten%20wir%20um%2015%3A30%20Uhr%20unsere%20landespolitische%20Radtour%20d
 urch%20Osnabr%C3%BCck.%20Bei%20der%20etwa%20zweist%C3%BCndigen%20Tour%20m
 %C3%B6chten%20wir%20uns%20in%20den%20beiden%20Wahlkreisen%20den%20Themen%
 20Mobilit%C3%A4t%2C%20Klimaschutz%2C%20Hochschulen%2C%20Soziales%2C%20Bil
 dung%20und%20mehr%20widmen.%20Im%20Anschluss%20finden%20wir%20uns%20bei%2
 0African%20Dishes%20zum%20lockeren%20Ausklang%20bei%20guter%20Verpflegung
 %20ein.%20Wir%20treffen%20uns%20an%20der%20Kunsthalle%2FRi%C3%9Fm%C3%BCll
 erplatz.%20%3C%2Fp%3E%0A%0A%0A%0A%3Cp%3EBringt%20gerne%20Familie%2C%20Fre
 und%2Ainnen%20und%20Nachbar%2Ainnen%20mit.%20Wir%20freuen%20uns%20auf%20e
 uch%21%20%3C%2Fp%3E%0A":Am 27. August veranstalten wir um 15:30 Uhr unser
 e landespolitische Radtour durch Osnabrück. Bei der etwa zweistündigen 
 Tour möchten wir uns in den beiden Wahlkreisen den Themen Mobilität\, K
 limaschutz\, Hochschulen\, Soziales\, Bildung und mehr widmen. Im Anschlu
 ss finden wir uns bei African Dishes zum lockeren Ausklang bei guter Verp
 flegung ein. Wir treffen uns an der Kunsthalle/Rißmüllerplatz.\n\nBring
 t gerne Familie\, Freund*innen und Nachbar*innen mit. Wir freuen uns auf 
 euch!
CLASS:PUBLIC
DTSTART;TZID=Europe/Berlin:20220827T153000
DTEND;TZID=Europe/Berlin:20220827T163000
DTSTAMP:20260424T194045
END:VEVENT
END:VCALENDAR