BEGIN:VCALENDAR
VERSION:2.0
PRODID:gruene-os.de
METHOD:PUBLISH
BEGIN:VTIMEZONE
TZID:Europe/Berlin
X-LIC-LOCATION:Europe/Berlin
BEGIN:DAYLIGHT
TZOFFSETFROM:+0100
TZOFFSETTO:+0200
TZNAME:CEST
DTSTART:19700329T020000
RRULE:FREQ=YEARLY;INTERVAL=1;BYDAY=-1SU;BYMONTH=3
END:DAYLIGHT
BEGIN:STANDARD
TZOFFSETFROM:+0200
TZOFFSETTO:+0100
TZNAME:CET
DTSTART:19701025T030000
RRULE:FREQ=YEARLY;INTERVAL=1;BYDAY=-1SU;BYMONTH=10
END:STANDARD
END:VTIMEZONE
BEGIN:VEVENT
UID:80c8c4529f50ce2a085fc05cbf323fa0@gruene-os.de
URL;VALUE=URI:https://gruene-os.de/blog/termine/projektgruppentreffen-wir
 tschaft-9/
LOCATION:Lagerhalle, Raum 102
SUMMARY:Projektgruppentreffen Wirtschaft
DESCRIPTION;ALTREP="data:text/html,%0A%3Cp%3EAm%20Dienstag%2C%2010.%20Feb
 ruar%2C%20um%2019%3A00%20Uhr%20trifft%20sich%20die%20Projektgruppe%20Wirt
 schaft.%20Im%20Mittelpunkt%20der%20Arbeit%20der%20Projektgruppe%20steht%2
 0die%20Frage%2C%20wie%20GR%C3%9CNE%20Politik%20auf%20kommunaler%20Ebene%2
 0dazu%20beitragen%20kann%2C%20die%20lokale%20Wirtschaft%20zu%20st%C3%A4rk
 en%20%E2%80%93%20im%20Einklang%20mit%20Klimaschutz%20und%20Nachhaltigkeit
 .%3C%2Fp%3E%0A%0A%0A%0A%3Cp%3EAuch%20interessierte%20Nicht-Mitglieder%20s
 ind%20herzlich%20willkommen.%20Wenn%20Du%20dabei%20sein%20willst%2C%20mel
 de%20Dich%20am%20besten%20bei%26nbsp%3B%3Ca%20href%3D%22https%3A%2F%2Fgru
 ene-os.de%2Fblog%2Ftermine%2Fprojektgruppentreffen-tierschutz-2%2F%23%22%
 3Epartei%40gruene-os.de%3C%2Fa%3E.%20Du%20kannst%20aber%20auch%20spontan%
 20vorbeikommen.%3C%2Fp%3E%0A%0A%0A%0A%3Cp%3E%3C%2Fp%3E%0A%0A%0A%0A%3Cp%3E
 %3C%2Fp%3E%0A":Am Dienstag\, 10. Februar\, um 19:00 Uhr trifft sich die P
 rojektgruppe Wirtschaft. Im Mittelpunkt der Arbeit der Projektgruppe steh
 t die Frage\, wie GRÜNE Politik auf kommunaler Ebene dazu beitragen kann
 \, die lokale Wirtschaft zu stärken – im Einklang mit Klimaschutz und 
 Nachhaltigkeit.\n\nAuch interessierte Nicht-Mitglieder sind herzlich will
 kommen. Wenn Du dabei sein willst\, melde Dich am besten bei partei@grue
 ne-os.de. Du kannst aber auch spontan vorbeikommen.
CLASS:PUBLIC
DTSTART;TZID=Europe/Berlin:20260210T190000
DTEND;TZID=Europe/Berlin:20260210T200000
DTSTAMP:20260424T194957
END:VEVENT
END:VCALENDAR