BEGIN:VCALENDAR
VERSION:2.0
PRODID:gruene-os.de
METHOD:PUBLISH
BEGIN:VTIMEZONE
TZID:Europe/Berlin
X-LIC-LOCATION:Europe/Berlin
BEGIN:DAYLIGHT
TZOFFSETFROM:+0100
TZOFFSETTO:+0200
TZNAME:CEST
DTSTART:19700329T020000
RRULE:FREQ=YEARLY;INTERVAL=1;BYDAY=-1SU;BYMONTH=3
END:DAYLIGHT
BEGIN:STANDARD
TZOFFSETFROM:+0200
TZOFFSETTO:+0100
TZNAME:CET
DTSTART:19701025T030000
RRULE:FREQ=YEARLY;INTERVAL=1;BYDAY=-1SU;BYMONTH=10
END:STANDARD
END:VTIMEZONE
BEGIN:VEVENT
UID:55d1cfc6fb4764f58115dd469c2a9de7@gruene-os.de
URL;VALUE=URI:https://gruene-os.de/blog/termine/projektgruppentreffen-tie
 rschutz-9/
LOCATION:GRÜNES Zentrum
SUMMARY:Projektgruppentreffen Tierschutz
DESCRIPTION;ALTREP="data:text/html,%0A%3Cp%3EAm%20Donnerstag%2C%2019.%20F
 ebruar%2C%20um%2018%3A30%20trifft%20sich%20die%20Projektgruppe%20Tierschu
 tz.%20%C2%A0Unter%20dem%20Motto%20%E2%80%9EDas%20Miteinander%20von%20Mens
 ch%20und%20Tier%20in%20der%20Stadt%E2%80%9C%20besch%C3%A4ftigt%20sich%20d
 ie%20Projektgruppe%20mit%20dem%20Thema%20Tierschutz%20auf%20kommunaler%20
 Ebene%20in%20Osnabr%C3%BCck.%3C%2Fp%3E%0A%0A%0A%0A%3Cp%3EAuch%20interessi
 erte%20Nicht-Mitglieder%20sind%20herzlich%20willkommen.%20Wenn%20Du%20dab
 ei%20sein%20willst%2C%20melde%20Dich%20am%20besten%20bei%26nbsp%3B%3Ca%20
 href%3D%22https%3A%2F%2Fgruene-os.de%2Fblog%2Ftermine%2Fprojektgruppentre
 ffen-tierschutz-8%2F%23%22%3Epartei%40gruene-os.de%3C%2Fa%3E.%20Du%20kann
 st%20aber%20auch%20spontan%20vorbeikommen.%3C%2Fp%3E%0A":Am Donnerstag\, 
 19. Februar\, um 18:30 trifft sich die Projektgruppe Tierschutz.  Unter 
 dem Motto „Das Miteinander von Mensch und Tier in der Stadt“ beschäf
 tigt sich die Projektgruppe mit dem Thema Tierschutz auf kommunaler Ebene
  in Osnabrück.\n\nAuch interessierte Nicht-Mitglieder sind herzlich will
 kommen. Wenn Du dabei sein willst\, melde Dich am besten bei partei@grue
 ne-os.de. Du kannst aber auch spontan vorbeikommen.
CLASS:PUBLIC
DTSTART;TZID=Europe/Berlin:20260219T183000
DTEND;TZID=Europe/Berlin:20260219T193000
DTSTAMP:20260424T194957
END:VEVENT
END:VCALENDAR