BEGIN:VCALENDAR
VERSION:2.0
PRODID:gruene-os.de
METHOD:PUBLISH
BEGIN:VTIMEZONE
TZID:Europe/Berlin
X-LIC-LOCATION:Europe/Berlin
BEGIN:DAYLIGHT
TZOFFSETFROM:+0100
TZOFFSETTO:+0200
TZNAME:CEST
DTSTART:19700329T020000
RRULE:FREQ=YEARLY;INTERVAL=1;BYDAY=-1SU;BYMONTH=3
END:DAYLIGHT
BEGIN:STANDARD
TZOFFSETFROM:+0200
TZOFFSETTO:+0100
TZNAME:CET
DTSTART:19701025T030000
RRULE:FREQ=YEARLY;INTERVAL=1;BYDAY=-1SU;BYMONTH=10
END:STANDARD
END:VTIMEZONE
BEGIN:VEVENT
UID:9e8012bf37e9a2be5d05a5b79e2cc3bf@gruene-os.de
URL;VALUE=URI:https://gruene-os.de/blog/termine/projektgruppentreffen-tie
 rschutz-7/
LOCATION:VHS, Raum 207
SUMMARY:Projektgruppentreffen Tierschutz
DESCRIPTION;ALTREP="data:text/html,%0A%3Cp%3EAm%20Dienstag%2C%2018.%20Nov
 ember%2C%20um%2018%3A30%20trifft%20sich%20die%20Projektgruppe%20Tierschut
 z.%20%C2%A0Unter%20dem%20Motto%20%E2%80%9EDas%20Miteinander%20von%20Mensc
 h%20und%20Tier%20in%20der%20Stadt%E2%80%9C%20besch%C3%A4ftigt%20sich%20di
 e%20Projektgruppe%20mit%20dem%20Thema%20Tierschutz%20auf%20kommunaler%20E
 bene%20in%20Osnabr%C3%BCck.%20%3C%2Fp%3E%0A%0A%0A%0A%3Cp%3EBei%20diesem%2
 0Termin%20steht%20ein%20Austausch%20mit%20der%20Stiftung%20f%C3%BCr%20B%C
 3%A4ren%20e.V.%20an.%20Die%20Stiftung%20engagiert%20sich%20seit%20Jahren%
 20f%C3%BCr%20die%20Schutz%20von%20B%C3%A4ren%2C%20w%C3%B6lfen%2C%20Luchse
 n%20und%20anderen%20Wildtieren%20und%20den%20Artenschutz.%20Au%C3%9Ferdem
 %20betreibt%20sie%20zwei%20alternative%20Wildparks.%20%3C%2Fp%3E%0A%0A%0A
 %0A%3Cp%3EAuch%20interessierte%20Nicht-Mitglieder%20sind%20herzlich%20wil
 lkommen.%20Wenn%20Du%20dabei%20sein%20willst%2C%20melde%20Dich%20am%20bes
 ten%20bei%20%3Ca%20href%3D%22mailto%3Apartei%40gruene-os.de%22%3Epartei%4
 0gruene-os.de%3C%2Fa%3E.%20Du%20kannst%20aber%20auch%20spontan%20vorbeiko
 mmen.%3C%2Fp%3E%0A":Am Dienstag\, 18. November\, um 18:30 trifft sich die
  Projektgruppe Tierschutz.  Unter dem Motto „Das Miteinander von Mensc
 h und Tier in der Stadt“ beschäftigt sich die Projektgruppe mit dem Th
 ema Tierschutz auf kommunaler Ebene in Osnabrück.\n\nBei diesem Termin s
 teht ein Austausch mit der Stiftung für Bären e.V. an. Die Stiftung eng
 agiert sich seit Jahren für die Schutz von Bären\, wölfen\, Luchsen un
 d anderen Wildtieren und den Artenschutz. Außerdem betreibt sie zwei alt
 ernative Wildparks.\n\nAuch interessierte Nicht-Mitglieder sind herzlich 
 willkommen. Wenn Du dabei sein willst\, melde Dich am besten bei partei@g
 ruene-os.de. Du kannst aber auch spontan vorbeikommen.
CLASS:PUBLIC
DTSTART;TZID=Europe/Berlin:20251118T183000
DTEND;TZID=Europe/Berlin:20251118T193000
DTSTAMP:20260424T195059
END:VEVENT
END:VCALENDAR