BEGIN:VCALENDAR
VERSION:2.0
PRODID:gruene-os.de
METHOD:PUBLISH
BEGIN:VTIMEZONE
TZID:Europe/Berlin
X-LIC-LOCATION:Europe/Berlin
BEGIN:DAYLIGHT
TZOFFSETFROM:+0100
TZOFFSETTO:+0200
TZNAME:CEST
DTSTART:19700329T020000
RRULE:FREQ=YEARLY;INTERVAL=1;BYDAY=-1SU;BYMONTH=3
END:DAYLIGHT
BEGIN:STANDARD
TZOFFSETFROM:+0200
TZOFFSETTO:+0100
TZNAME:CET
DTSTART:19701025T030000
RRULE:FREQ=YEARLY;INTERVAL=1;BYDAY=-1SU;BYMONTH=10
END:STANDARD
END:VTIMEZONE
BEGIN:VEVENT
UID:3db27da936ac0339fca574ee1bb38ce8@gruene-os.de
URL;VALUE=URI:https://gruene-os.de/blog/termine/projektgruppentreffen-tie
 rschutz-6/
LOCATION:VHS Raum 205
SUMMARY:Projektgruppentreffen Tierschutz
DESCRIPTION;ALTREP="data:text/html,%0A%3Cp%3EAm%20Donnerstag%2C%2016.%20O
 ktober%2C%20um%2018%3A30%20trifft%20sich%20die%20Projektgruppe%20Tierschu
 tz.%20%26nbsp%3BUnter%20dem%20Motto%20%E2%80%9EDas%20Miteinander%20von%20
 Mensch%20und%20Tier%20in%20der%20Stadt%E2%80%9C%20besch%C3%A4ftigt%20sich
 %20die%20Projektgruppe%20mit%20dem%20Thema%20Tierschutz%20auf%20kommunale
 r%20Ebene%20in%20Osnabr%C3%BCck.%3C%2Fp%3E%0A%0A%0A%0A%3Cp%3EAuch%20inter
 essierte%20Nicht-Mitglieder%20sind%20herzlich%20willkommen.%20Wenn%20Du%2
 0dabei%20sein%20willst%2C%20melde%20Dich%20am%20besten%20bei%20%3Ca%20hre
 f%3D%22mailto%3Apartei%40gruene-os.de%22%3Epartei%40gruene-os.de%3C%2Fa%3
 E.%20Du%20kannst%20aber%20auch%20spontan%20vorbeikommen.%3C%2Fp%3E%0A%0A%
 0A%0A%3Cp%3E%3C%2Fp%3E%0A":Am Donnerstag\, 16. Oktober\, um 18:30 trifft 
 sich die Projektgruppe Tierschutz.  Unter dem Motto „Das Miteinander v
 on Mensch und Tier in der Stadt“ beschäftigt sich die Projektgruppe mi
 t dem Thema Tierschutz auf kommunaler Ebene in Osnabrück.\n\nAuch intere
 ssierte Nicht-Mitglieder sind herzlich willkommen. Wenn Du dabei sein wil
 lst\, melde Dich am besten bei partei@gruene-os.de. Du kannst aber auch s
 pontan vorbeikommen.
CLASS:PUBLIC
DTSTART;TZID=Europe/Berlin:20251016T183000
DTEND;TZID=Europe/Berlin:20251016T193000
DTSTAMP:20260424T195053
END:VEVENT
END:VCALENDAR