BEGIN:VCALENDAR
VERSION:2.0
PRODID:gruene-os.de
METHOD:PUBLISH
BEGIN:VTIMEZONE
TZID:Europe/Berlin
X-LIC-LOCATION:Europe/Berlin
BEGIN:DAYLIGHT
TZOFFSETFROM:+0100
TZOFFSETTO:+0200
TZNAME:CEST
DTSTART:19700329T020000
RRULE:FREQ=YEARLY;INTERVAL=1;BYDAY=-1SU;BYMONTH=3
END:DAYLIGHT
BEGIN:STANDARD
TZOFFSETFROM:+0200
TZOFFSETTO:+0100
TZNAME:CET
DTSTART:19701025T030000
RRULE:FREQ=YEARLY;INTERVAL=1;BYDAY=-1SU;BYMONTH=10
END:STANDARD
END:VTIMEZONE
BEGIN:VEVENT
UID:9168d1fbe7af101e3d0a84c05073c101@gruene-os.de
URL;VALUE=URI:https://gruene-os.de/blog/termine/projektgruppentreffen-tie
 rschutz-13/
LOCATION:
SUMMARY:Projektgruppentreffen Tierschutz
DESCRIPTION;ALTREP="data:text/html,%0A%3Cp%3EAm%20Donnerstag%2C%2018.%20J
 uni%2C%20um%2018%3A30%20trifft%20sich%20die%20Projektgruppe%20Tierschutz.
 %20%C2%A0Unter%20dem%20Motto%20%E2%80%9EDas%20Miteinander%20von%20Mensch%
 20und%20Tier%20in%20der%20Stadt%E2%80%9C%20besch%C3%A4ftigt%20sich%20die%
 20Projektgruppe%20mit%20dem%20Thema%20Tierschutz%20auf%20kommunaler%20Ebe
 ne%20in%20Osnabr%C3%BCck.%3C%2Fp%3E%0A%0A%0A%0A%3Cp%3EAuch%20interessiert
 e%20Nicht-Mitglieder%20sind%20herzlich%20willkommen.%20Wenn%20Du%20dabei%
 20sein%20willst%2C%20melde%20Dich%20am%20besten%20bei%26nbsp%3B%3Ca%20hre
 f%3D%22https%3A%2F%2Fgruene-os.de%2Fblog%2Ftermine%2Fprojektgruppentreffe
 n-tierschutz-8%2F%23%22%3Epartei%40gruene-os.de%3C%2Fa%3E.%20Du%20kannst%
 20aber%20auch%20spontan%20vorbeikommen.%3C%2Fp%3E%0A":Am Donnerstag\, 18.
  Juni\, um 18:30 trifft sich die Projektgruppe Tierschutz.  Unter dem Mo
 tto „Das Miteinander von Mensch und Tier in der Stadt“ beschäftigt s
 ich die Projektgruppe mit dem Thema Tierschutz auf kommunaler Ebene in Os
 nabrück.\n\nAuch interessierte Nicht-Mitglieder sind herzlich willkommen
 . Wenn Du dabei sein willst\, melde Dich am besten bei partei@gruene-os.
 de. Du kannst aber auch spontan vorbeikommen.
CLASS:PUBLIC
DTSTART;TZID=Europe/Berlin:20260618T183000
DTEND;TZID=Europe/Berlin:20260618T193000
DTSTAMP:20260424T181228
END:VEVENT
END:VCALENDAR