BEGIN:VCALENDAR
VERSION:2.0
PRODID:gruene-os.de
METHOD:PUBLISH
BEGIN:VTIMEZONE
TZID:Europe/Berlin
X-LIC-LOCATION:Europe/Berlin
BEGIN:DAYLIGHT
TZOFFSETFROM:+0100
TZOFFSETTO:+0200
TZNAME:CEST
DTSTART:19700329T020000
RRULE:FREQ=YEARLY;INTERVAL=1;BYDAY=-1SU;BYMONTH=3
END:DAYLIGHT
BEGIN:STANDARD
TZOFFSETFROM:+0200
TZOFFSETTO:+0100
TZNAME:CET
DTSTART:19701025T030000
RRULE:FREQ=YEARLY;INTERVAL=1;BYDAY=-1SU;BYMONTH=10
END:STANDARD
END:VTIMEZONE
BEGIN:VEVENT
UID:6f8ff9e14890b62a93f516fa6a987b67@gruene-os.de
URL;VALUE=URI:https://gruene-os.de/blog/termine/projektgruppentreffen-tie
 rschutz/
LOCATION:VHS Raum 315, Bergstraße 8, Osnabrück
SUMMARY:Projektgruppentreffen Tierschutz
DESCRIPTION;ALTREP="data:text/html,%0A%3Cp%3EAm%20Donnerstag%2C%2015.%20M
 ai%2C%20um%2018%3A30%20trifft%20sich%20die%20Projektgruppe%20Tierschutz.%
 20%26nbsp%3BUnter%20dem%20Motto%20%E2%80%9EDas%20Miteinander%20von%20Mens
 ch%20und%20Tier%20in%20der%20Stadt%E2%80%9C%20besch%C3%A4ftigt%20sich%20d
 ie%20Projektgruppe%20mit%20dem%20Thema%20Tierschutz%20auf%20kommunaler%20
 Ebene%20in%20Osnabr%C3%BCck.%3C%2Fp%3E%0A%0A%0A%0A%3Cp%3EAuch%20interessi
 erte%20Nicht-Mitglieder%20sind%20herzlich%20willkommen.%20Wenn%20Du%20dab
 ei%20sein%20willst%2C%20melde%20Dich%20am%20besten%20bei%20%3Ca%20href%3D
 %22mailto%3Apartei%40gruene-os.de%22%3Epartei%40gruene-os.de%3C%2Fa%3E.%2
 0Du%20kannst%20aber%20auch%20spontan%20vorbeikommen.%3C%2Fp%3E%0A%0A%0A%0
 A%3Cp%3E%3C%2Fp%3E%0A":Am Donnerstag\, 15. Mai\, um 18:30 trifft sich die
  Projektgruppe Tierschutz.  Unter dem Motto „Das Miteinander von Mensc
 h und Tier in der Stadt“ beschäftigt sich die Projektgruppe mit dem Th
 ema Tierschutz auf kommunaler Ebene in Osnabrück.\n\nAuch interessierte 
 Nicht-Mitglieder sind herzlich willkommen. Wenn Du dabei sein willst\, me
 lde Dich am besten bei partei@gruene-os.de. Du kannst aber auch spontan v
 orbeikommen.
CLASS:PUBLIC
DTSTART;TZID=Europe/Berlin:20250515T183000
DTEND;TZID=Europe/Berlin:20250515T193000
DTSTAMP:20260424T194249
END:VEVENT
END:VCALENDAR