BEGIN:VCALENDAR
VERSION:2.0
PRODID:gruene-os.de
METHOD:PUBLISH
BEGIN:VTIMEZONE
TZID:Europe/Berlin
X-LIC-LOCATION:Europe/Berlin
BEGIN:DAYLIGHT
TZOFFSETFROM:+0100
TZOFFSETTO:+0200
TZNAME:CEST
DTSTART:19700329T020000
RRULE:FREQ=YEARLY;INTERVAL=1;BYDAY=-1SU;BYMONTH=3
END:DAYLIGHT
BEGIN:STANDARD
TZOFFSETFROM:+0200
TZOFFSETTO:+0100
TZNAME:CET
DTSTART:19701025T030000
RRULE:FREQ=YEARLY;INTERVAL=1;BYDAY=-1SU;BYMONTH=10
END:STANDARD
END:VTIMEZONE
BEGIN:VEVENT
UID:6909a32bbd81ee40598f26e57c38d16e@gruene-os.de
URL;VALUE=URI:https://gruene-os.de/blog/termine/projektgruppentreffen-tei
 lhabe-vielfalt-8/
LOCATION:Lagerhalle
SUMMARY:Projektgruppentreffen Teilhabe & Vielfalt
DESCRIPTION;ALTREP="data:text/html,%0A%3Cp%3EAm%20Montag%2C%2017.%20Novem
 ber%2C%20um%2019%3A30%20Uhr%20trifft%20sich%20die%20Projektgruppe%20Teilh
 abe%20und%20Vielfalt%20in%20der%20Lagerhalle.%3C%2Fp%3E%0A%0A%0A%0A%3Cp%3
 EAuch%20interessierte%20Nicht-Mitglieder%20sind%20herzlich%20willkommen.%
 20Wenn%20Du%20dabei%20sein%20willst%2C%20melde%20Dich%20am%20besten%20bei
 %20Ina%20%28%3Ca%20href%3D%22https%3A%2F%2Fgruene-os.de%2Fblog%2Ftermine%
 2Fprojekgtruppentreffen-teilhabe-vielfalt%2F%23%22%3Evielfalt%40gruene-os
 .de%3C%2Fa%3E%29.%20Du%20kannst%20aber%20auch%20spontan%20vorbeikommen.%3
 C%2Fp%3E%0A":Am Montag\, 17. November\, um 19:30 Uhr trifft sich die Proj
 ektgruppe Teilhabe und Vielfalt in der Lagerhalle.\n\nAuch interessierte 
 Nicht-Mitglieder sind herzlich willkommen. Wenn Du dabei sein willst\, me
 lde Dich am besten bei Ina (vielfalt@gruene-os.de). Du kannst aber auch s
 pontan vorbeikommen.
CLASS:PUBLIC
DTSTART;TZID=Europe/Berlin:20251117T193000
DTEND;TZID=Europe/Berlin:20251117T203000
DTSTAMP:20260424T195340
END:VEVENT
END:VCALENDAR