BEGIN:VCALENDAR
VERSION:2.0
PRODID:gruene-os.de
METHOD:PUBLISH
BEGIN:VTIMEZONE
TZID:Europe/Berlin
X-LIC-LOCATION:Europe/Berlin
BEGIN:DAYLIGHT
TZOFFSETFROM:+0100
TZOFFSETTO:+0200
TZNAME:CEST
DTSTART:19700329T020000
RRULE:FREQ=YEARLY;INTERVAL=1;BYDAY=-1SU;BYMONTH=3
END:DAYLIGHT
BEGIN:STANDARD
TZOFFSETFROM:+0200
TZOFFSETTO:+0100
TZNAME:CET
DTSTART:19701025T030000
RRULE:FREQ=YEARLY;INTERVAL=1;BYDAY=-1SU;BYMONTH=10
END:STANDARD
END:VTIMEZONE
BEGIN:VEVENT
UID:585f58f858394accca451b75b05805ce@gruene-os.de
URL;VALUE=URI:https://gruene-os.de/blog/termine/projektgruppentreffen-tei
 lhabe-vielfalt-7/
LOCATION:Lagerhalle
SUMMARY:Projektgruppentreffen Teilhabe & Vielfalt
DESCRIPTION;ALTREP="data:text/html,%0A%3Cp%3EAm%20Montag%2C%2027.%20Oktob
 er%2C%20um%2019%3A30%20Uhr%20trifft%20sich%20die%20Projektgruppe%20Teilha
 be%20und%20Vielfalt%20in%20der%20Lagerhalle.%3C%2Fp%3E%0A%0A%0A%0A%3Cp%3E
 Bei%20diesen%20Treffen%20wollen%20wir%20uns%20wieder%20dem%20Thema%20Migr
 ation%20widmen.%20Wir%20werden%20Input%20aus%20juristischer%20Perspektive
 %20bekommen%20und%20uns%20die%20rechtlichen%20Grundlagen%20zum%20Asyl-%20
 und%20Aufenthaltsrecht%20genauer%20anschauen.%20Wir%20sprechen%20zum%20Be
 ispiel%20%C3%BCber%20das%20vom%20Bund%20ausgesetzte%20Programm%20Afghanis
 tan%20zur%20Aufnahme%20besonders%20gef%C3%A4hrdeter%20afghanischer%20Staa
 tsb%C3%BCrger%2Ainnen%2C%20ebenso%20%C3%BCber%20die%20rechtliche%20Bewert
 ung%20der%20Ukraine.%3Cbr%3EGen%C3%BCgend%20Raum%20f%C3%BCr%20Fragen%20un
 d%20weiteren%20Austausch%20wird%20es%20dar%C3%BCber%20hinaus%20nat%C3%BCr
 lich%20auch%20geben.%3C%2Fp%3E%0A%0A%0A%0A%3Cp%3EAuch%20interessierte%20N
 icht-Mitglieder%20sind%20herzlich%20willkommen.%20Wenn%20Du%20dabei%20sei
 n%20willst%2C%20melde%20Dich%20am%20besten%20bei%20Ina%20%28vielfalt%40gr
 uene-os.de%29.%3Cbr%3EDu%20kannst%20aber%20auch%20spontan%20vorbeikommen.
 %3C%2Fp%3E%0A%0A%0A%0A%3Cp%3E%3C%2Fp%3E%0A":Am Montag\, 27. Oktober\, um 
 19:30 Uhr trifft sich die Projektgruppe Teilhabe und Vielfalt in der Lage
 rhalle.\n\nBei diesen Treffen wollen wir uns wieder dem Thema Migration w
 idmen. Wir werden Input aus juristischer Perspektive bekommen und uns die
  rechtlichen Grundlagen zum Asyl- und Aufenthaltsrecht genauer anschauen.
  Wir sprechen zum Beispiel über das vom Bund ausgesetzte Programm Afghan
 istan zur Aufnahme besonders gefährdeter afghanischer Staatsbürger*inne
 n\, ebenso über die rechtliche Bewertung der Ukraine.Genügend Raum für
  Fragen und weiteren Austausch wird es darüber hinaus natürlich auch ge
 ben.\n\nAuch interessierte Nicht-Mitglieder sind herzlich willkommen. Wen
 n Du dabei sein willst\, melde Dich am besten bei Ina (vielfalt@gruene-os
 .de).Du kannst aber auch spontan vorbeikommen.
CLASS:PUBLIC
DTSTART;TZID=Europe/Berlin:20251027T193000
DTEND;TZID=Europe/Berlin:20251027T203000
DTSTAMP:20260424T195253
END:VEVENT
END:VCALENDAR