BEGIN:VCALENDAR
VERSION:2.0
PRODID:gruene-os.de
METHOD:PUBLISH
BEGIN:VTIMEZONE
TZID:Europe/Berlin
X-LIC-LOCATION:Europe/Berlin
BEGIN:DAYLIGHT
TZOFFSETFROM:+0100
TZOFFSETTO:+0200
TZNAME:CEST
DTSTART:19700329T020000
RRULE:FREQ=YEARLY;INTERVAL=1;BYDAY=-1SU;BYMONTH=3
END:DAYLIGHT
BEGIN:STANDARD
TZOFFSETFROM:+0200
TZOFFSETTO:+0100
TZNAME:CET
DTSTART:19701025T030000
RRULE:FREQ=YEARLY;INTERVAL=1;BYDAY=-1SU;BYMONTH=10
END:STANDARD
END:VTIMEZONE
BEGIN:VEVENT
UID:cadda789969d519b9748d2679c72679f@gruene-os.de
URL;VALUE=URI:https://gruene-os.de/blog/termine/projektgruppentreffen-tei
 lhabe-vielfalt-6/
LOCATION:Lagerhalle
SUMMARY:Projektgruppentreffen Teilhabe & Vielfalt
DESCRIPTION;ALTREP="data:text/html,%0A%3Cp%3EAm%20Montag%2C%2022.%20Septe
 mber%2C%20um%2019%3A30%20Uhr%20trifft%20sich%20die%20Projektgruppe%20Teil
 habe%20und%20Vielfalt%20in%20der%20Lagerhalle.%3Cbr%3E%3Cbr%3EDieses%20Ma
 l%20geht%20es%20um%20das%20Thema%20Migration.%20Wir%20haben%20daf%C3%BCr%
 20einen%20Gast%20aus%20der%20Fl%C3%BCchtlingssozialarbeit%20und%20spreche
 n%20dar%C3%BCber%2C%20wie%20Anlaufstellen%20helfen%20und%20beraten%2C%20w
 ie%20sich%20die%20Fl%C3%BCchtlingssozialarbeit%20in%20den%20letzten%20Jah
 ren%20ver%C3%A4ndert%20hat.%20Au%C3%9Ferdem%20wollen%20wir%20den%20Zugang
 %20zu%20und%20das%20Interesse%20an%20Politik%20von%20Gefl%C3%BCchteten%3C
 br%3Ethematisieren.%3C%2Fp%3E%0A%0A%0A%0A%3Cp%3EAuch%20interessierte%20Ni
 cht-Mitglieder%20sind%20herzlich%20willkommen.%20Wenn%20Du%20dabei%20sein
 %20willst%2C%20melde%20Dich%20am%20besten%20bei%20Ina%20%28%3Ca%20href%3D
 %22https%3A%2F%2Fgruene-os.de%2Fblog%2Ftermine%2Fprojekgtruppentreffen-te
 ilhabe-vielfalt%2F%23%22%3Evielfalt%40gruene-os.de%3C%2Fa%3E%29.%20Du%20k
 annst%20aber%20auch%20spontan%20vorbeikommen.%3C%2Fp%3E%0A%0A%0A%0A%3Cp%3
 E%3C%2Fp%3E%0A":Am Montag\, 22. September\, um 19:30 Uhr trifft sich die 
 Projektgruppe Teilhabe und Vielfalt in der Lagerhalle.Dieses Mal geht es 
 um das Thema Migration. Wir haben dafür einen Gast aus der Flüchtlingss
 ozialarbeit und sprechen darüber\, wie Anlaufstellen helfen und beraten\
 , wie sich die Flüchtlingssozialarbeit in den letzten Jahren verändert 
 hat. Außerdem wollen wir den Zugang zu und das Interesse an Politik von 
 Geflüchtetenthematisieren.\n\nAuch interessierte Nicht-Mitglieder sind h
 erzlich willkommen. Wenn Du dabei sein willst\, melde Dich am besten bei 
 Ina (vielfalt@gruene-os.de). Du kannst aber auch spontan vorbeikommen.
CLASS:PUBLIC
DTSTART;TZID=Europe/Berlin:20250922T193000
DTEND;TZID=Europe/Berlin:20250922T203000
DTSTAMP:20260424T195353
END:VEVENT
END:VCALENDAR