BEGIN:VCALENDAR
VERSION:2.0
PRODID:gruene-os.de
METHOD:PUBLISH
BEGIN:VTIMEZONE
TZID:Europe/Berlin
X-LIC-LOCATION:Europe/Berlin
BEGIN:DAYLIGHT
TZOFFSETFROM:+0100
TZOFFSETTO:+0200
TZNAME:CEST
DTSTART:19700329T020000
RRULE:FREQ=YEARLY;INTERVAL=1;BYDAY=-1SU;BYMONTH=3
END:DAYLIGHT
BEGIN:STANDARD
TZOFFSETFROM:+0200
TZOFFSETTO:+0100
TZNAME:CET
DTSTART:19701025T030000
RRULE:FREQ=YEARLY;INTERVAL=1;BYDAY=-1SU;BYMONTH=10
END:STANDARD
END:VTIMEZONE
BEGIN:VEVENT
UID:8f5fba1bef4efb64909fd621082d63c9@gruene-os.de
URL;VALUE=URI:https://gruene-os.de/blog/termine/projektgruppentreffen-tei
 lhabe-vielfalt-4/
LOCATION:Lagerhalle (Raum 207), Rolandsmauer 26, Osnabrück
SUMMARY:Projektgruppentreffen Teilhabe & Vielfalt
DESCRIPTION;ALTREP="data:text/html,%0A%3Cp%3EAm%20Montag%2C%2017.%20M%C3%
 A4rz%2C%20um%2019%3A30%20Uhr%20trifft%20sich%20die%20Projektgruppe%20Teil
 habe%20und%20Vielfalt%20in%20der%20Lagerhalle.%3C%2Fp%3E%0A%0A%0A%0A%3Cp%
 3EDiesmal%20tauschen%20wir%20uns%20%20mit%20der%20Gr%C3%BCnen%20Jugend%20
 Osnabr%C3%BCck%20aus%20und%20nehmen%20Jugendpolitische%20Schwerpunkte%20u
 nd%20Perspektiven%20in%20den%20Blick.%20%3C%2Fp%3E%0A%0A%0A%0A%3Cp%3EAuch
 %20interessierte%20Nicht-Mitglieder%20sind%20herzlich%20willkommen.%20Wen
 n%20Du%20dabei%20sein%20willst%2C%20melde%20Dich%20am%20besten%20bei%20Er
 ik%20%26amp%3B%20Ina%20%28%3Ca%20href%3D%22https%3A%2F%2Fgruene-os.de%2Fb
 log%2Ftermine%2Fprojekgtruppentreffen-teilhabe-vielfalt%2F%23%22%3Evielfa
 lt%40gruene-os.de%3C%2Fa%3E%29.%20Du%20kannst%20aber%20auch%20spontan%20v
 orbeikommen.%3C%2Fp%3E%0A":Am Montag\, 17. März\, um 19:30 Uhr trifft si
 ch die Projektgruppe Teilhabe und Vielfalt in der Lagerhalle.\n\nDiesmal 
 tauschen wir uns  mit der Grünen Jugend Osnabrück aus und nehmen Jugend
 politische Schwerpunkte und Perspektiven in den Blick.\n\nAuch interessie
 rte Nicht-Mitglieder sind herzlich willkommen. Wenn Du dabei sein willst\
 , melde Dich am besten bei Erik & Ina (vielfalt@gruene-os.de). Du kannst 
 aber auch spontan vorbeikommen.
CLASS:PUBLIC
DTSTART;TZID=Europe/Berlin:20250317T193000
DTEND;TZID=Europe/Berlin:20250317T203000
DTSTAMP:20260424T195348
END:VEVENT
END:VCALENDAR