BEGIN:VCALENDAR
VERSION:2.0
PRODID:gruene-os.de
METHOD:PUBLISH
BEGIN:VTIMEZONE
TZID:Europe/Berlin
X-LIC-LOCATION:Europe/Berlin
BEGIN:DAYLIGHT
TZOFFSETFROM:+0100
TZOFFSETTO:+0200
TZNAME:CEST
DTSTART:19700329T020000
RRULE:FREQ=YEARLY;INTERVAL=1;BYDAY=-1SU;BYMONTH=3
END:DAYLIGHT
BEGIN:STANDARD
TZOFFSETFROM:+0200
TZOFFSETTO:+0100
TZNAME:CET
DTSTART:19701025T030000
RRULE:FREQ=YEARLY;INTERVAL=1;BYDAY=-1SU;BYMONTH=10
END:STANDARD
END:VTIMEZONE
BEGIN:VEVENT
UID:37fc5bafd1765eefeb84cc93abbcf14f@gruene-os.de
URL;VALUE=URI:https://gruene-os.de/blog/termine/projektgruppentreffen-tei
 lhabe-vielfalt-15/
LOCATION:Lagerhalle Raum 201
SUMMARY:Projektgruppentreffen Teilhabe & Vielfalt
DESCRIPTION;ALTREP="data:text/html,%0A%3Cp%3EAm%20Montag%2C%2015.%20Juni%
 2C%20um%2019%20Uhr%20trifft%20sich%20die%20Projektgruppe%20Teilhabe%20und
 %20Vielfalt%20in%20der%20Lagerhalle.%3C%2Fp%3E%0A%0A%0A%0A%3Cp%3EBei%20di
 esem%20Treffen%20werden%20wir%20unseren%20Blick%20auf%20die%20Kommunalwah
 l%20richten%20und%20m%C3%B6gliche%20sozialpolitische%20Schwerpunktthemen%
 20mit%20einem%20Fokus%20auf%20Teilhabe%20%26amp%3B%20Vielfalt%20diskutier
 en.%3C%2Fp%3E%0A%0A%0A%0A%3Cp%3EAuch%20interessierte%20Nicht-Mitglieder%2
 0sind%20herzlich%20willkommen.%20Wenn%20Du%20dabei%20sein%20willst%2C%20m
 elde%20Dich%20am%20besten%20bei%20Ina%20%28%3Ca%20href%3D%22https%3A%2F%2
 Fgruene-os.de%2Fblog%2Ftermine%2Fprojekgtruppentreffen-teilhabe-vielfalt%
 2F%23%22%3Evielfalt%40gruene-os.de%3C%2Fa%3E%29.%20Du%20kannst%20aber%20a
 uch%20spontan%20vorbeikommen.%3C%2Fp%3E%0A":Am Montag\, 15. Juni\, um 19 
 Uhr trifft sich die Projektgruppe Teilhabe und Vielfalt in der Lagerhalle
 .\n\nBei diesem Treffen werden wir unseren Blick auf die Kommunalwahl ric
 hten und mögliche sozialpolitische Schwerpunktthemen mit einem Fokus auf
  Teilhabe & Vielfalt diskutieren.\n\nAuch interessierte Nicht-Mitglieder 
 sind herzlich willkommen. Wenn Du dabei sein willst\, melde Dich am beste
 n bei Ina (vielfalt@gruene-os.de). Du kannst aber auch spontan vorbeikomm
 en.
CLASS:PUBLIC
DTSTART;TZID=Europe/Berlin:20260615T190000
DTEND;TZID=Europe/Berlin:20260615T200000
DTSTAMP:20260424T181227
END:VEVENT
END:VCALENDAR