BEGIN:VCALENDAR
VERSION:2.0
PRODID:gruene-os.de
METHOD:PUBLISH
BEGIN:VTIMEZONE
TZID:Europe/Berlin
X-LIC-LOCATION:Europe/Berlin
BEGIN:DAYLIGHT
TZOFFSETFROM:+0100
TZOFFSETTO:+0200
TZNAME:CEST
DTSTART:19700329T020000
RRULE:FREQ=YEARLY;INTERVAL=1;BYDAY=-1SU;BYMONTH=3
END:DAYLIGHT
BEGIN:STANDARD
TZOFFSETFROM:+0200
TZOFFSETTO:+0100
TZNAME:CET
DTSTART:19701025T030000
RRULE:FREQ=YEARLY;INTERVAL=1;BYDAY=-1SU;BYMONTH=10
END:STANDARD
END:VTIMEZONE
BEGIN:VEVENT
UID:1300c92a4ef9342be4f4cefaa19a0909@gruene-os.de
URL;VALUE=URI:https://gruene-os.de/blog/termine/projektgruppentreffen-tei
 lhabe-vielfalt-12/
LOCATION:Lagerhalle Raum 201
SUMMARY:Projektgruppentreffen Teilhabe & Vielfalt
DESCRIPTION;ALTREP="data:text/html,%0A%3Cp%3EAm%20Montag%2C%2016.%20M%C3%
 A4rz%2C%20um%2019%20Uhr%20trifft%20sich%20die%20Projektgruppe%20Teilhabe%
 20und%20Vielfalt%20in%20der%20Lagerhalle.%3C%2Fp%3E%0A%0A%0A%0A%3Cp%3EBei
 %20diesem%20Treffen%20werden%20wir%20unseren%20Blick%20auf%20die%20Kommun
 alwahl%20richten%20und%20m%C3%B6gliche%20sozialpolitische%20Schwerpunktth
 emen%20mit%20einem%20Fokus%20auf%20Teilhabe%20%26amp%3B%20Vielfalt%20disk
 utieren.%3C%2Fp%3E%0A%0A%0A%0A%3Cp%3EAuch%20interessierte%20Nicht-Mitglie
 der%20sind%20herzlich%20willkommen.%20Wenn%20Du%20dabei%20sein%20willst%2
 C%20melde%20Dich%20am%20besten%20bei%20Ina%20%28%3Ca%20href%3D%22https%3A
 %2F%2Fgruene-os.de%2Fblog%2Ftermine%2Fprojekgtruppentreffen-teilhabe-viel
 falt%2F%23%22%3Evielfalt%40gruene-os.de%3C%2Fa%3E%29.%20Du%20kannst%20abe
 r%20auch%20spontan%20vorbeikommen.%3C%2Fp%3E%0A":Am Montag\, 16. März\, 
 um 19 Uhr trifft sich die Projektgruppe Teilhabe und Vielfalt in der Lage
 rhalle.\n\nBei diesem Treffen werden wir unseren Blick auf die Kommunalwa
 hl richten und mögliche sozialpolitische Schwerpunktthemen mit einem Fok
 us auf Teilhabe & Vielfalt diskutieren.\n\nAuch interessierte Nicht-Mitgl
 ieder sind herzlich willkommen. Wenn Du dabei sein willst\, melde Dich am
  besten bei Ina (vielfalt@gruene-os.de). Du kannst aber auch spontan vorb
 eikommen.
CLASS:PUBLIC
DTSTART;TZID=Europe/Berlin:20260316T190000
DTEND;TZID=Europe/Berlin:20260316T200000
DTSTAMP:20260424T195339
END:VEVENT
END:VCALENDAR