BEGIN:VCALENDAR
VERSION:2.0
PRODID:gruene-os.de
METHOD:PUBLISH
BEGIN:VTIMEZONE
TZID:Europe/Berlin
X-LIC-LOCATION:Europe/Berlin
BEGIN:DAYLIGHT
TZOFFSETFROM:+0100
TZOFFSETTO:+0200
TZNAME:CEST
DTSTART:19700329T020000
RRULE:FREQ=YEARLY;INTERVAL=1;BYDAY=-1SU;BYMONTH=3
END:DAYLIGHT
BEGIN:STANDARD
TZOFFSETFROM:+0200
TZOFFSETTO:+0100
TZNAME:CET
DTSTART:19701025T030000
RRULE:FREQ=YEARLY;INTERVAL=1;BYDAY=-1SU;BYMONTH=10
END:STANDARD
END:VTIMEZONE
BEGIN:VEVENT
UID:24f8927366905b259782efb7c03be989@gruene-os.de
URL;VALUE=URI:https://gruene-os.de/blog/termine/projektgruppentreffen-pfl
 ege-gesundheit-2/
LOCATION:FABI Seminarraum 3, Große Rosnestr. 18, Osnabrück
SUMMARY:Projektgruppentreffen Pflege & Gesundheit
DESCRIPTION;ALTREP="data:text/html,%0A%3Cp%3EAm%20Donnerstag%2C%208.%20Ma
 i%2C%20um%2018%20Uhr%20trifft%20sich%20die%20Projektgruppe%20Pflege%20%26
 amp%3B%20Gesundheit.%20Pflege-%20und%20Gesundheitsversorgung%20sind%20zen
 trale%20Bestandteile%20der%20%C3%B6ffentlichen%20Daseinsvorsorge.%20Die%2
 0Projektgruppe%20setzt%20sich%20daf%C3%BCr%20ein%2C%20diese%20Bereiche%20
 sozial%20gerecht%2C%20zukunftsf%C3%A4hig%20und%20%C3%B6kologisch%20verant
 wortungsvoll%20zu%20gestalten.%20Es%20geht%20um%20mehr%20als%20funktionie
 rende%20Strukturen%20%E2%80%93%20es%20geht%20um%20F%C3%BCrsorge%2C%20Teil
 habe%20und%20Lebensqualit%C3%A4t%20f%C3%BCr%20alle.%3C%2Fp%3E%0A%0A%0A%0A
 %3Cp%3EAuch%20interessierte%20Nicht-Mitglieder%20sind%20herzlich%20willko
 mmen.%20Wenn%20Du%20dabei%20sein%20willst%2C%20melde%20Dich%20am%20besten
 %20bei%20Sarah%20%28%3Ca%20href%3D%22https%3A%2F%2Fgruene-os.de%2Fblog%2F
 termine%2Fprojekgtruppentreffen-teilhabe-vielfalt%2F%23%22%3Epflege%40gru
 ene-os.de%3C%2Fa%3E%29.%20Du%20kannst%20aber%20auch%20spontan%20vorbeikom
 men.%3C%2Fp%3E%0A%0A%0A%0A%3Cp%3E%3C%2Fp%3E%0A":Am Donnerstag\, 8. Mai\, 
 um 18 Uhr trifft sich die Projektgruppe Pflege & Gesundheit. Pflege- und 
 Gesundheitsversorgung sind zentrale Bestandteile der öffentlichen Dasein
 svorsorge. Die Projektgruppe setzt sich dafür ein\, diese Bereiche sozia
 l gerecht\, zukunftsfähig und ökologisch verantwortungsvoll zu gestalte
 n. Es geht um mehr als funktionierende Strukturen – es geht um Fürsorg
 e\, Teilhabe und Lebensqualität für alle.\n\nAuch interessierte Nicht-M
 itglieder sind herzlich willkommen. Wenn Du dabei sein willst\, melde Dic
 h am besten bei Sarah (pflege@gruene-os.de). Du kannst aber auch spontan 
 vorbeikommen.
CLASS:PUBLIC
DTSTART;TZID=Europe/Berlin:20250508T180000
DTEND;TZID=Europe/Berlin:20250508T190000
DTSTAMP:20260424T195347
END:VEVENT
END:VCALENDAR