BEGIN:VCALENDAR
VERSION:2.0
PRODID:gruene-os.de
METHOD:PUBLISH
BEGIN:VTIMEZONE
TZID:Europe/Berlin
X-LIC-LOCATION:Europe/Berlin
BEGIN:DAYLIGHT
TZOFFSETFROM:+0100
TZOFFSETTO:+0200
TZNAME:CEST
DTSTART:19700329T020000
RRULE:FREQ=YEARLY;INTERVAL=1;BYDAY=-1SU;BYMONTH=3
END:DAYLIGHT
BEGIN:STANDARD
TZOFFSETFROM:+0200
TZOFFSETTO:+0100
TZNAME:CET
DTSTART:19701025T030000
RRULE:FREQ=YEARLY;INTERVAL=1;BYDAY=-1SU;BYMONTH=10
END:STANDARD
END:VTIMEZONE
BEGIN:VEVENT
UID:dd864a191bcc21506e43b46300467814@gruene-os.de
URL;VALUE=URI:https://gruene-os.de/blog/termine/projektgruppentreffen-pfl
 ege-gesundheit/
LOCATION:folgt
SUMMARY:Projektgruppentreffen Pflege & Gesundheit
DESCRIPTION;ALTREP="data:text/html,%0A%3Cp%3EAm%20Donnerstag%2C%2010.%20A
 pril%2C%20um%2018%20Uhr%20trifft%20sich%20die%20Projektgruppe%20Pflege%20
 %26amp%3B%20Gesundheit.%20%3C%2Fp%3E%0A%0A%0A%0A%3Cp%3EAuch%20interessier
 te%20Nicht-Mitglieder%20sind%20herzlich%20willkommen.%20Wenn%20Du%20dabei
 %20sein%20willst%2C%20melde%20Dich%20am%20besten%20bei%20Sarah%20%28%3Ca%
 20href%3D%22https%3A%2F%2Fgruene-os.de%2Fblog%2Ftermine%2Fprojekgtruppent
 reffen-teilhabe-vielfalt%2F%23%22%3Epflege%40gruene-os.de%3C%2Fa%3E%29.%2
 0Du%20kannst%20aber%20auch%20spontan%20vorbeikommen.%3C%2Fp%3E%0A":Am Don
 nerstag\, 10. April\, um 18 Uhr trifft sich die Projektgruppe Pflege & Ge
 sundheit.\n\nAuch interessierte Nicht-Mitglieder sind herzlich willkommen
 . Wenn Du dabei sein willst\, melde Dich am besten bei Sarah (pflege@grue
 ne-os.de). Du kannst aber auch spontan vorbeikommen.
CLASS:PUBLIC
DTSTART;TZID=Europe/Berlin:20250410T180000
DTEND;TZID=Europe/Berlin:20250410T190000
DTSTAMP:20260424T195215
END:VEVENT
END:VCALENDAR