BEGIN:VCALENDAR
VERSION:2.0
PRODID:gruene-os.de
METHOD:PUBLISH
BEGIN:VTIMEZONE
TZID:Europe/Berlin
X-LIC-LOCATION:Europe/Berlin
BEGIN:DAYLIGHT
TZOFFSETFROM:+0100
TZOFFSETTO:+0200
TZNAME:CEST
DTSTART:19700329T020000
RRULE:FREQ=YEARLY;INTERVAL=1;BYDAY=-1SU;BYMONTH=3
END:DAYLIGHT
BEGIN:STANDARD
TZOFFSETFROM:+0200
TZOFFSETTO:+0100
TZNAME:CET
DTSTART:19701025T030000
RRULE:FREQ=YEARLY;INTERVAL=1;BYDAY=-1SU;BYMONTH=10
END:STANDARD
END:VTIMEZONE
BEGIN:VEVENT
UID:0e81f125fe5180775ab6365e4229e48c@gruene-os.de
URL;VALUE=URI:https://gruene-os.de/blog/termine/projektgruppentreffen-mob
 ilitaet-8/
LOCATION:
SUMMARY:Projektgruppentreffen Mobilität
DESCRIPTION;ALTREP="data:text/html,%0A%3Cp%3EAm%20Donnerstag%2C%208.%20Ja
 nuar%2C%20um%2018%3A00%20trifft%20sich%20unsere%20Projektgruppe%20Mobilit
 %C3%A4t.%3C%2Fp%3E%0A%0A%0A%0A%3Cp%3EAuch%20interessierte%20Nicht-Mitglie
 der%20sind%20herzlich%20willkommen.%20Wenn%20Du%20dabei%20sein%20willst%2
 C%20melde%20Dich%20am%20besten%20bei%26nbsp%3B%3Ca%20href%3D%22https%3A%2
 F%2Fgruene-os.de%2Fblog%2Ftermine%2Fprojektgruppentreffen-tierschutz-2%2F
 %23%22%3Epartei%40gruene-os.de%3C%2Fa%3E.%20Du%20kannst%20aber%20auch%20s
 pontan%20vorbeikommen.%3C%2Fp%3E%0A%0A%0A%0A%3Cp%3E%3Cem%3EInfos%20zum%20
 Treffpunkt%20folgen%20in%20K%C3%BCrze.%20%3C%2Fem%3E%3C%2Fp%3E%0A":Am Don
 nerstag\, 8. Januar\, um 18:00 trifft sich unsere Projektgruppe Mobilitä
 t.\n\nAuch interessierte Nicht-Mitglieder sind herzlich willkommen. Wenn 
 Du dabei sein willst\, melde Dich am besten bei partei@gruene-os.de. Du 
 kannst aber auch spontan vorbeikommen.\n\nInfos zum Treffpunkt folgen in 
 Kürze.
CLASS:PUBLIC
DTSTART;TZID=Europe/Berlin:20260108T180000
DTEND;TZID=Europe/Berlin:20260108T190000
DTSTAMP:20260424T195253
END:VEVENT
END:VCALENDAR