BEGIN:VCALENDAR
VERSION:2.0
PRODID:gruene-os.de
METHOD:PUBLISH
BEGIN:VTIMEZONE
TZID:Europe/Berlin
X-LIC-LOCATION:Europe/Berlin
BEGIN:DAYLIGHT
TZOFFSETFROM:+0100
TZOFFSETTO:+0200
TZNAME:CEST
DTSTART:19700329T020000
RRULE:FREQ=YEARLY;INTERVAL=1;BYDAY=-1SU;BYMONTH=3
END:DAYLIGHT
BEGIN:STANDARD
TZOFFSETFROM:+0200
TZOFFSETTO:+0100
TZNAME:CET
DTSTART:19701025T030000
RRULE:FREQ=YEARLY;INTERVAL=1;BYDAY=-1SU;BYMONTH=10
END:STANDARD
END:VTIMEZONE
BEGIN:VEVENT
UID:78cac01f91f4338c1f41a0717c436cb4@gruene-os.de
URL;VALUE=URI:https://gruene-os.de/blog/termine/projektgruppentreffen-mob
 ilitaet-4/
LOCATION:VHS Raum 311
SUMMARY:Projektgruppentreffen Mobilität
DESCRIPTION;ALTREP="data:text/html,%0A%3Cp%3EAm%20Donnerstag%2C%2011.%20S
 eptember%2C%20um%2018%3A00%20trifft%20sich%20unsere%20Projektgruppe%20Mob
 ilit%C3%A4t.%20%3C%2Fp%3E%0A%0A%0A%0A%3Cp%3EAuch%20interessierte%20Nicht-
 Mitglieder%20sind%20herzlich%20willkommen.%20Wenn%20Du%20dabei%20sein%20w
 illst%2C%20melde%20Dich%20am%20besten%20bei%26nbsp%3B%3Ca%20href%3D%22htt
 ps%3A%2F%2Fgruene-os.de%2Fblog%2Ftermine%2Fprojektgruppentreffen-tierschu
 tz-2%2F%23%22%3Epartei%40gruene-os.de%3C%2Fa%3E.%20Du%20kannst%20aber%20a
 uch%20spontan%20vorbeikommen.%3C%2Fp%3E%0A%0A%0A%0A%3Cp%3E%3C%2Fp%3E%0A":
 Am Donnerstag\, 11. September\, um 18:00 trifft sich unsere Projektgruppe
  Mobilität.\n\nAuch interessierte Nicht-Mitglieder sind herzlich willkom
 men. Wenn Du dabei sein willst\, melde Dich am besten bei partei@gruene-
 os.de. Du kannst aber auch spontan vorbeikommen.
CLASS:PUBLIC
DTSTART;TZID=Europe/Berlin:20250911T180000
DTEND;TZID=Europe/Berlin:20250911T190000
DTSTAMP:20260424T195215
END:VEVENT
END:VCALENDAR