BEGIN:VCALENDAR
VERSION:2.0
PRODID:gruene-os.de
METHOD:PUBLISH
BEGIN:VTIMEZONE
TZID:Europe/Berlin
X-LIC-LOCATION:Europe/Berlin
BEGIN:DAYLIGHT
TZOFFSETFROM:+0100
TZOFFSETTO:+0200
TZNAME:CEST
DTSTART:19700329T020000
RRULE:FREQ=YEARLY;INTERVAL=1;BYDAY=-1SU;BYMONTH=3
END:DAYLIGHT
BEGIN:STANDARD
TZOFFSETFROM:+0200
TZOFFSETTO:+0100
TZNAME:CET
DTSTART:19701025T030000
RRULE:FREQ=YEARLY;INTERVAL=1;BYDAY=-1SU;BYMONTH=10
END:STANDARD
END:VTIMEZONE
BEGIN:VEVENT
UID:71281029311ff18af2e56f0cba32c5f6@gruene-os.de
URL;VALUE=URI:https://gruene-os.de/blog/termine/projektgruppentreffen-mob
 ilitaet-3/
LOCATION:Lagerhalle Raum 102
SUMMARY:Projektgruppentreffen Mobilität
DESCRIPTION;ALTREP="data:text/html,%0A%3Cp%3EAm%20Donnerstag%2C%2014.%20A
 ugust%2C%20um%2018%3A00%20trifft%20sich%20die%20Projektgruppe%20Mobilit%C
 3%A4t.%20Dieses%20Mal%20geht%20es%20um%20stehenden%20Verkehr.%20%3C%2Fp%3
 E%0A%0A%0A%0A%3Cp%3EAuch%20interessierte%20Nicht-Mitglieder%20sind%20herz
 lich%20willkommen.%20Wenn%20Du%20dabei%20sein%20willst%2C%20melde%20Dich%
 20am%20besten%20bei%26nbsp%3B%3Ca%20href%3D%22https%3A%2F%2Fgruene-os.de%
 2Fblog%2Ftermine%2Fprojektgruppentreffen-tierschutz-2%2F%23%22%3Epartei%4
 0gruene-os.de%3C%2Fa%3E.%20Du%20kannst%20aber%20auch%20spontan%20vorbeiko
 mmen.%3C%2Fp%3E%0A%0A%0A%0A%3Cp%3E%3C%2Fp%3E%0A":Am Donnerstag\, 14. Augu
 st\, um 18:00 trifft sich die Projektgruppe Mobilität. Dieses Mal geht e
 s um stehenden Verkehr.\n\nAuch interessierte Nicht-Mitglieder sind herzl
 ich willkommen. Wenn Du dabei sein willst\, melde Dich am besten bei par
 tei@gruene-os.de. Du kannst aber auch spontan vorbeikommen.
CLASS:PUBLIC
DTSTART;TZID=Europe/Berlin:20250814T180000
DTEND;TZID=Europe/Berlin:20250814T190000
DTSTAMP:20260424T195255
END:VEVENT
END:VCALENDAR