BEGIN:VCALENDAR
VERSION:2.0
PRODID:gruene-os.de
METHOD:PUBLISH
BEGIN:VTIMEZONE
TZID:Europe/Berlin
X-LIC-LOCATION:Europe/Berlin
BEGIN:DAYLIGHT
TZOFFSETFROM:+0100
TZOFFSETTO:+0200
TZNAME:CEST
DTSTART:19700329T020000
RRULE:FREQ=YEARLY;INTERVAL=1;BYDAY=-1SU;BYMONTH=3
END:DAYLIGHT
BEGIN:STANDARD
TZOFFSETFROM:+0200
TZOFFSETTO:+0100
TZNAME:CET
DTSTART:19701025T030000
RRULE:FREQ=YEARLY;INTERVAL=1;BYDAY=-1SU;BYMONTH=10
END:STANDARD
END:VTIMEZONE
BEGIN:VEVENT
UID:9fad0b6754ae944cd96575d2c639e655@gruene-os.de
URL;VALUE=URI:https://gruene-os.de/blog/termine/projektgruppentreffen-mob
 ilitaet-2/
LOCATION:
SUMMARY:Projektgruppentreffen Mobilität
DESCRIPTION;ALTREP="data:text/html,%0A%3Cp%3EAm%20Donnerstag%2C%2010.%20J
 uli%2C%20um%2018%3A00%20trifft%20sich%20die%20Projektgruppe%20Mobilit%C3%
 A4t.%20Dieses%20Mal%20geht%20es%20um%20den%20Umbau%20der%20Bramscher%20St
 ra%C3%9Fe.%20%3C%2Fp%3E%0A%0A%0A%0A%3Cp%3EAuch%20interessierte%20Nicht-Mi
 tglieder%20sind%20herzlich%20willkommen.%20Wenn%20Du%20dabei%20sein%20wil
 lst%2C%20melde%20Dich%20am%20besten%20bei%26nbsp%3B%3Ca%20href%3D%22https
 %3A%2F%2Fgruene-os.de%2Fblog%2Ftermine%2Fprojektgruppentreffen-tierschutz
 -2%2F%23%22%3Epartei%40gruene-os.de%3C%2Fa%3E.%20Du%20kannst%20aber%20auc
 h%20spontan%20vorbeikommen.%3C%2Fp%3E%0A%0A%0A%0A%3Cp%3E%3C%2Fp%3E%0A":Am
  Donnerstag\, 10. Juli\, um 18:00 trifft sich die Projektgruppe Mobilitä
 t. Dieses Mal geht es um den Umbau der Bramscher Straße.\n\nAuch interes
 sierte Nicht-Mitglieder sind herzlich willkommen. Wenn Du dabei sein will
 st\, melde Dich am besten bei partei@gruene-os.de. Du kannst aber auch s
 pontan vorbeikommen.
CLASS:PUBLIC
DTSTART;TZID=Europe/Berlin:20250710T180000
DTEND;TZID=Europe/Berlin:20250710T190000
DTSTAMP:20260424T195131
END:VEVENT
END:VCALENDAR