BEGIN:VCALENDAR
VERSION:2.0
PRODID:gruene-os.de
METHOD:PUBLISH
BEGIN:VTIMEZONE
TZID:Europe/Berlin
X-LIC-LOCATION:Europe/Berlin
BEGIN:DAYLIGHT
TZOFFSETFROM:+0100
TZOFFSETTO:+0200
TZNAME:CEST
DTSTART:19700329T020000
RRULE:FREQ=YEARLY;INTERVAL=1;BYDAY=-1SU;BYMONTH=3
END:DAYLIGHT
BEGIN:STANDARD
TZOFFSETFROM:+0200
TZOFFSETTO:+0100
TZNAME:CET
DTSTART:19701025T030000
RRULE:FREQ=YEARLY;INTERVAL=1;BYDAY=-1SU;BYMONTH=10
END:STANDARD
END:VTIMEZONE
BEGIN:VEVENT
UID:6db0139c36733b8f2eca2ba1de5e8ebc@gruene-os.de
URL;VALUE=URI:https://gruene-os.de/blog/termine/projektgruppentreffen-mob
 ilitaet-13/
LOCATION:VHS Raum 302
SUMMARY:Projektgruppentreffen Mobilität
DESCRIPTION;ALTREP="data:text/html,%0A%3Cp%3EAm%20Donnerstag%2C%2011.%20J
 uni%2C%20um%2018%3A00%20Uhr%20trifft%20sich%20unsere%20Projektgruppe%20Mo
 bilit%C3%A4t.%3C%2Fp%3E%0A%0A%0A%0A%3Cp%3EAuch%20interessierte%20Nicht-Mi
 tglieder%20sind%20herzlich%20willkommen.%20Wenn%20Du%20dabei%20sein%20wil
 lst%2C%20melde%20Dich%20am%20besten%20bei%26nbsp%3B%3Ca%20href%3D%22https
 %3A%2F%2Fgruene-os.de%2Fblog%2Ftermine%2Fprojektgruppentreffen-tierschutz
 -2%2F%23%22%3Epartei%40gruene-os.de%3C%2Fa%3E.%20Du%20kannst%20aber%20auc
 h%20spontan%20vorbeikommen.%3C%2Fp%3E%0A":Am Donnerstag\, 11. Juni\, um 1
 8:00 Uhr trifft sich unsere Projektgruppe Mobilität.\n\nAuch interessier
 te Nicht-Mitglieder sind herzlich willkommen. Wenn Du dabei sein willst\,
  melde Dich am besten bei partei@gruene-os.de. Du kannst aber auch spont
 an vorbeikommen.
CLASS:PUBLIC
DTSTART;TZID=Europe/Berlin:20260611T180000
DTEND;TZID=Europe/Berlin:20260611T190000
DTSTAMP:20260424T181253
END:VEVENT
END:VCALENDAR