BEGIN:VCALENDAR
VERSION:2.0
PRODID:gruene-os.de
METHOD:PUBLISH
BEGIN:VTIMEZONE
TZID:Europe/Berlin
X-LIC-LOCATION:Europe/Berlin
BEGIN:DAYLIGHT
TZOFFSETFROM:+0100
TZOFFSETTO:+0200
TZNAME:CEST
DTSTART:19700329T020000
RRULE:FREQ=YEARLY;INTERVAL=1;BYDAY=-1SU;BYMONTH=3
END:DAYLIGHT
BEGIN:STANDARD
TZOFFSETFROM:+0200
TZOFFSETTO:+0100
TZNAME:CET
DTSTART:19701025T030000
RRULE:FREQ=YEARLY;INTERVAL=1;BYDAY=-1SU;BYMONTH=10
END:STANDARD
END:VTIMEZONE
BEGIN:VEVENT
UID:72b382720a6cfa8542356e5595f7e2ee@gruene-os.de
URL;VALUE=URI:https://gruene-os.de/blog/termine/projektgruppentreffen-mob
 ilitaet/
LOCATION:GRÜNES Zentrum, Große Straße 55, Osnabrück
SUMMARY:Projektgruppentreffen Mobilität
DESCRIPTION;ALTREP="data:text/html,%0A%3Cp%3EAm%20Donnerstag%2C%2012.%20J
 uni%2C%20um%2018%3A00%20trifft%20sich%20die%20Projektgruppe%20Mobilit%C3%
 A4t.%3C%2Fp%3E%0A%0A%0A%0A%3Cp%3EAuch%20interessierte%20Nicht-Mitglieder%
 20sind%20herzlich%20willkommen.%20Wenn%20Du%20dabei%20sein%20willst%2C%20
 melde%20Dich%20am%20besten%20bei%26nbsp%3B%3Ca%20href%3D%22https%3A%2F%2F
 gruene-os.de%2Fblog%2Ftermine%2Fprojektgruppentreffen-tierschutz-2%2F%23%
 22%3Epartei%40gruene-os.de%3C%2Fa%3E.%20Du%20kannst%20aber%20auch%20spont
 an%20vorbeikommen.%3C%2Fp%3E%0A":Am Donnerstag\, 12. Juni\, um 18:00 trif
 ft sich die Projektgruppe Mobilität.\n\nAuch interessierte Nicht-Mitglie
 der sind herzlich willkommen. Wenn Du dabei sein willst\, melde Dich am b
 esten bei partei@gruene-os.de. Du kannst aber auch spontan vorbeikommen.
CLASS:PUBLIC
DTSTART;TZID=Europe/Berlin:20250612T180000
DTEND;TZID=Europe/Berlin:20250612T190000
DTSTAMP:20260424T195340
END:VEVENT
END:VCALENDAR