BEGIN:VCALENDAR
VERSION:2.0
PRODID:gruene-os.de
METHOD:PUBLISH
BEGIN:VTIMEZONE
TZID:Europe/Berlin
X-LIC-LOCATION:Europe/Berlin
BEGIN:DAYLIGHT
TZOFFSETFROM:+0100
TZOFFSETTO:+0200
TZNAME:CEST
DTSTART:19700329T020000
RRULE:FREQ=YEARLY;INTERVAL=1;BYDAY=-1SU;BYMONTH=3
END:DAYLIGHT
BEGIN:STANDARD
TZOFFSETFROM:+0200
TZOFFSETTO:+0100
TZNAME:CET
DTSTART:19701025T030000
RRULE:FREQ=YEARLY;INTERVAL=1;BYDAY=-1SU;BYMONTH=10
END:STANDARD
END:VTIMEZONE
BEGIN:VEVENT
UID:a891791a8a1d3bfbcab9a4ba45b080b4@gruene-os.de
URL;VALUE=URI:https://gruene-os.de/blog/termine/projektgruppentreffen-kul
 tur-2/
LOCATION:Lagerhalle (Raum 207)
SUMMARY:Projektgruppentreffen Kultur
DESCRIPTION;ALTREP="data:text/html,%0A%3Cp%3EAm%20Montag%2C%2018.%20Augus
 t%2C%20um%2019%3A00%20Uhr%20trifft%20sich%20die%20Projektgruppe%20Kultur.
 %20Im%20Mittelpunkt%20der%20Arbeit%20der%20Projektgruppe%20steht%20die%20
 Frage%2C%20wie%20GR%C3%9CNE%20Politik%20auf%20kommunaler%20Ebene%20dazu%2
 0beitragen%20kann%2C%20Kulturangebote%20und%20Kulturschaffende%20vor%20Or
 t%20zu%20unterst%C3%BCtzen.%3C%2Fp%3E%0A%0A%0A%0A%3Cp%3EAuch%20interessie
 rte%20Nicht-Mitglieder%20sind%20herzlich%20willkommen.%20Wenn%20Du%20dabe
 i%20sein%20willst%2C%20melde%20Dich%20am%20besten%20bei%26nbsp%3B%3Ca%20h
 ref%3D%22https%3A%2F%2Fgruene-os.de%2Fblog%2Ftermine%2Fprojektgruppentref
 fen-tierschutz-2%2F%23%22%3Epartei%40gruene-os.de%3C%2Fa%3E.%20Du%20kanns
 t%20aber%20auch%20spontan%20vorbeikommen.%3C%2Fp%3E%0A":Am Montag\, 18. A
 ugust\, um 19:00 Uhr trifft sich die Projektgruppe Kultur. Im Mittelpunkt
  der Arbeit der Projektgruppe steht die Frage\, wie GRÜNE Politik auf ko
 mmunaler Ebene dazu beitragen kann\, Kulturangebote und Kulturschaffende 
 vor Ort zu unterstützen.\n\nAuch interessierte Nicht-Mitglieder sind her
 zlich willkommen. Wenn Du dabei sein willst\, melde Dich am besten bei p
 artei@gruene-os.de. Du kannst aber auch spontan vorbeikommen.
CLASS:PUBLIC
DTSTART;TZID=Europe/Berlin:20250818T190000
DTEND;TZID=Europe/Berlin:20250818T200000
DTSTAMP:20260424T193924
END:VEVENT
END:VCALENDAR