BEGIN:VCALENDAR
VERSION:2.0
PRODID:gruene-os.de
METHOD:PUBLISH
BEGIN:VTIMEZONE
TZID:Europe/Berlin
X-LIC-LOCATION:Europe/Berlin
BEGIN:DAYLIGHT
TZOFFSETFROM:+0100
TZOFFSETTO:+0200
TZNAME:CEST
DTSTART:19700329T020000
RRULE:FREQ=YEARLY;INTERVAL=1;BYDAY=-1SU;BYMONTH=3
END:DAYLIGHT
BEGIN:STANDARD
TZOFFSETFROM:+0200
TZOFFSETTO:+0100
TZNAME:CET
DTSTART:19701025T030000
RRULE:FREQ=YEARLY;INTERVAL=1;BYDAY=-1SU;BYMONTH=10
END:STANDARD
END:VTIMEZONE
BEGIN:VEVENT
UID:4eb145991a6b0a68d98623b2d4b3a2be@gruene-os.de
URL;VALUE=URI:https://gruene-os.de/blog/termine/projektgruppentreffen-kul
 tur-10/
LOCATION:VHS Raum 205
SUMMARY:Projektgruppentreffen Kultur
DESCRIPTION;ALTREP="data:text/html,%0A%3Cp%3EAm%20Donnerstag%2C%2011.%20D
 ezember%20um%2019%3A00%20Uhr%20trifft%20sich%20die%20Projektgruppe%20Kult
 ur.%3C%2Fp%3E%0A%0A%0A%0A%3Cp%3EAuch%20interessierte%20Nicht-Mitglieder%2
 0sind%20herzlich%20willkommen.%20Wenn%20Du%20dabei%20sein%20willst%2C%20m
 elde%20Dich%20am%20besten%20bei%26nbsp%3B%3Ca%20href%3D%22https%3A%2F%2Fg
 ruene-os.de%2Fblog%2Ftermine%2Fprojektgruppentreffen-tierschutz-2%2F%23%2
 2%3Epartei%40gruene-os.de%3C%2Fa%3E.%20Du%20kannst%20aber%20auch%20sponta
 n%20vorbeikommen.%3C%2Fp%3E%0A":Am Donnerstag\, 11. Dezember um 19:00 Uhr
  trifft sich die Projektgruppe Kultur.\n\nAuch interessierte Nicht-Mitgli
 eder sind herzlich willkommen. Wenn Du dabei sein willst\, melde Dich am 
 besten bei partei@gruene-os.de. Du kannst aber auch spontan vorbeikommen
 .
CLASS:PUBLIC
DTSTART;TZID=Europe/Berlin:20251211T190000
DTEND;TZID=Europe/Berlin:20251211T200000
DTSTAMP:20260424T195131
END:VEVENT
END:VCALENDAR