BEGIN:VCALENDAR
VERSION:2.0
PRODID:gruene-os.de
METHOD:PUBLISH
BEGIN:VTIMEZONE
TZID:Europe/Berlin
X-LIC-LOCATION:Europe/Berlin
BEGIN:DAYLIGHT
TZOFFSETFROM:+0100
TZOFFSETTO:+0200
TZNAME:CEST
DTSTART:19700329T020000
RRULE:FREQ=YEARLY;INTERVAL=1;BYDAY=-1SU;BYMONTH=3
END:DAYLIGHT
BEGIN:STANDARD
TZOFFSETFROM:+0200
TZOFFSETTO:+0100
TZNAME:CET
DTSTART:19701025T030000
RRULE:FREQ=YEARLY;INTERVAL=1;BYDAY=-1SU;BYMONTH=10
END:STANDARD
END:VTIMEZONE
BEGIN:VEVENT
UID:fe9494aca8cbb82cefb00ca23b861a32@gruene-os.de
URL;VALUE=URI:https://gruene-os.de/blog/termine/projektgruppentreffen-kli
 maschutz-3/
LOCATION:VHS Raum 311
SUMMARY:Projektgruppentreffen Klimaschutz – fällt aus
DESCRIPTION;ALTREP="data:text/html,%0A%3Cp%3EAm%20Dienstag%2C%209.%20Sept
 ember%2C%20um%2019%3A00%20Uhr%20trifft%20sich%20unsere%20Projektgruppe%20
 Klimaschutz.%3C%2Fp%3E%0A%0A%0A%0A%3Cp%3EAuch%20interessierte%20Nicht-Mit
 glieder%20sind%20herzlich%20willkommen.%20Wenn%20Du%20dabei%20sein%20will
 st%2C%20melde%20Dich%20am%20besten%20bei%26nbsp%3B%3Ca%20href%3D%22https%
 3A%2F%2Fgruene-os.de%2Fblog%2Ftermine%2Fprojektgruppentreffen-tierschutz-
 2%2F%23%22%3Epartei%40gruene-os.de%3C%2Fa%3E.%20Du%20kannst%20aber%20auch
 %20spontan%20vorbeikommen.%3C%2Fp%3E%0A%0A%0A%0A%3Cp%3E%3Cem%3ELeider%20m
 uss%20das%20Treffen%20der%20Projektgruppe%20Klimaschutz%20ausfallen%20Wir
 %20sehen%20uns%20im%20Oktober.%20%3C%2Fem%3E%3C%2Fp%3E%0A%0A%0A%0A%3Cp%3E
 %3C%2Fp%3E%0A":Am Dienstag\, 9. September\, um 19:00 Uhr trifft sich unse
 re Projektgruppe Klimaschutz.\n\nAuch interessierte Nicht-Mitglieder sind
  herzlich willkommen. Wenn Du dabei sein willst\, melde Dich am besten be
 i partei@gruene-os.de. Du kannst aber auch spontan vorbeikommen.\n\nLeid
 er muss das Treffen der Projektgruppe Klimaschutz ausfallen Wir sehen uns
  im Oktober.
CLASS:PUBLIC
DTSTART;TZID=Europe/Berlin:20250909T190000
DTEND;TZID=Europe/Berlin:20250909T200000
DTSTAMP:20260424T193900
END:VEVENT
END:VCALENDAR