BEGIN:VCALENDAR
VERSION:2.0
PRODID:gruene-os.de
METHOD:PUBLISH
BEGIN:VTIMEZONE
TZID:Europe/Berlin
X-LIC-LOCATION:Europe/Berlin
BEGIN:DAYLIGHT
TZOFFSETFROM:+0100
TZOFFSETTO:+0200
TZNAME:CEST
DTSTART:19700329T020000
RRULE:FREQ=YEARLY;INTERVAL=1;BYDAY=-1SU;BYMONTH=3
END:DAYLIGHT
BEGIN:STANDARD
TZOFFSETFROM:+0200
TZOFFSETTO:+0100
TZNAME:CET
DTSTART:19701025T030000
RRULE:FREQ=YEARLY;INTERVAL=1;BYDAY=-1SU;BYMONTH=10
END:STANDARD
END:VTIMEZONE
BEGIN:VEVENT
UID:8aa999f02e1d01efa666beee991447c7@gruene-os.de
URL;VALUE=URI:https://gruene-os.de/blog/termine/projektgruppentreffen-kli
 maschutz/
LOCATION:
SUMMARY:Projektgruppentreffen Klimaschutz
DESCRIPTION;ALTREP="data:text/html,%0A%3Cp%3EAm%20Dienstag%208.%20Juli%2C
 %20um%2019%3A00%20trifft%20sich%20die%20neue%20Projektgruppe%20Klimaschut
 z.%20%3C%2Fp%3E%0A%0A%0A%0A%3Cp%3EAuch%20interessierte%20Nicht-Mitglieder
 %20sind%20herzlich%20willkommen.%20Wenn%20Du%20dabei%20sein%20willst%2C%2
 0melde%20Dich%20am%20besten%20bei%26nbsp%3B%3Ca%20href%3D%22https%3A%2F%2
 Fgruene-os.de%2Fblog%2Ftermine%2Fprojektgruppentreffen-tierschutz-2%2F%23
 %22%3Epartei%40gruene-os.de%3C%2Fa%3E.%20Du%20kannst%20aber%20auch%20spon
 tan%20vorbeikommen.%3C%2Fp%3E%0A%0A%0A%0A%3Cp%3E%3Cem%3EOrt%20folgt%20in%
 20K%C3%BCrze.%20%3C%2Fem%3E%3C%2Fp%3E%0A%0A%0A%0A%3Cp%3E%3C%2Fp%3E%0A":Am
  Dienstag 8. Juli\, um 19:00 trifft sich die neue Projektgruppe Klimaschu
 tz.\n\nAuch interessierte Nicht-Mitglieder sind herzlich willkommen. Wenn
  Du dabei sein willst\, melde Dich am besten bei partei@gruene-os.de. Du
  kannst aber auch spontan vorbeikommen.\n\nOrt folgt in Kürze.
CLASS:PUBLIC
DTSTART;TZID=Europe/Berlin:20250708T190000
DTEND;TZID=Europe/Berlin:20250708T200000
DTSTAMP:20260424T193837
END:VEVENT
END:VCALENDAR