BEGIN:VCALENDAR
VERSION:2.0
PRODID:gruene-os.de
METHOD:PUBLISH
BEGIN:VTIMEZONE
TZID:Europe/Berlin
X-LIC-LOCATION:Europe/Berlin
BEGIN:DAYLIGHT
TZOFFSETFROM:+0100
TZOFFSETTO:+0200
TZNAME:CEST
DTSTART:19700329T020000
RRULE:FREQ=YEARLY;INTERVAL=1;BYDAY=-1SU;BYMONTH=3
END:DAYLIGHT
BEGIN:STANDARD
TZOFFSETFROM:+0200
TZOFFSETTO:+0100
TZNAME:CET
DTSTART:19701025T030000
RRULE:FREQ=YEARLY;INTERVAL=1;BYDAY=-1SU;BYMONTH=10
END:STANDARD
END:VTIMEZONE
BEGIN:VEVENT
UID:fd383e0493c0a4ba881eeca68c3a5032@gruene-os.de
URL;VALUE=URI:https://gruene-os.de/blog/termine/projektgruppentreffen-ges
 undheit-pflege-4/
LOCATION:VHS Raum 302
SUMMARY:Besuch Musterwohnung & Projektgruppentreffen Gesundheit & Pflege
DESCRIPTION;ALTREP="data:text/html,%0A%3Cp%3EAm%20Donnerstag%2C%2011.%20S
 eptember%2C%20um%2017%3A00%20besucht%20die%20Projektgruppe%20Pflege%20gem
 einsam%20eine%20Musterwohnung%20in%20der%20M%C3%B6serstra%C3%9Fe%208%2C%2
 0in%20der%20es%20technische%20Hilfsmittel%20im%20Alter%20zu%20sehen%20gib
 t.%20Anschlie%C3%9Fend%20ab%20ca.%2019%3A00%20Uhr%20trifft%20sich%20die%2
 0Projektgruppe%20zum%20Austausch%20in%20der%20VHS.%20%3Cbr%3EPflege-%20un
 d%20Gesundheitsversorgung%20sind%20zentrale%20Bestandteile%20der%20%C3%B6
 ffentlichen%20Daseinsvorsorge.%20Die%20Projektgruppe%20setzt%20sich%20daf
 %C3%BCr%20ein%2C%20diese%20Bereiche%20sozial%20gerecht%2C%20zukunftsf%C3%
 A4hig%20und%20%C3%B6kologisch%20verantwortungsvoll%20zu%20gestalten.%20Es
 %20geht%20um%20mehr%20als%20funktionierende%20Strukturen%20%E2%80%93%20es
 %20geht%20um%20F%C3%BCrsorge%2C%20Teilhabe%20und%20Lebensqualit%C3%A4t%20
 f%C3%BCr%20alle.%3C%2Fp%3E%0A%0A%0A%0A%3Cp%3EAuch%20interessierte%20Nicht
 -Mitglieder%20sind%20herzlich%20willkommen.%20Wenn%20Du%20dabei%20sein%20
 willst%2C%20melde%20Dich%20am%20besten%20bei%26nbsp%3B%3Ca%20href%3D%22ht
 tps%3A%2F%2Fgruene-os.de%2Fblog%2Ftermine%2Fprojektgruppentreffen-tiersch
 utz-2%2F%23%22%3Epartei%40gruene-os.de%3C%2Fa%3E.%20Du%20kannst%20aber%20
 auch%20spontan%20vorbeikommen.%3C%2Fp%3E%0A%0A%0A%0A%3Cp%3E%3C%2Fp%3E%0A"
 :Am Donnerstag\, 11. September\, um 17:00 besucht die Projektgruppe Pfleg
 e gemeinsam eine Musterwohnung in der Möserstraße 8\, in der es technis
 che Hilfsmittel im Alter zu sehen gibt. Anschließend ab ca. 19:00 Uhr tr
 ifft sich die Projektgruppe zum Austausch in der VHS. Pflege- und Gesundh
 eitsversorgung sind zentrale Bestandteile der öffentlichen Daseinsvorsor
 ge. Die Projektgruppe setzt sich dafür ein\, diese Bereiche sozial gerec
 ht\, zukunftsfähig und ökologisch verantwortungsvoll zu gestalten. Es g
 eht um mehr als funktionierende Strukturen – es geht um Fürsorge\, Tei
 lhabe und Lebensqualität für alle.\n\nAuch interessierte Nicht-Mitglied
 er sind herzlich willkommen. Wenn Du dabei sein willst\, melde Dich am be
 sten bei partei@gruene-os.de. Du kannst aber auch spontan vorbeikommen.
CLASS:PUBLIC
DTSTART;TZID=Europe/Berlin:20250911T180000
DTEND;TZID=Europe/Berlin:20250911T190000
DTSTAMP:20260424T195352
END:VEVENT
END:VCALENDAR