BEGIN:VCALENDAR
VERSION:2.0
PRODID:gruene-os.de
METHOD:PUBLISH
BEGIN:VTIMEZONE
TZID:Europe/Berlin
X-LIC-LOCATION:Europe/Berlin
BEGIN:DAYLIGHT
TZOFFSETFROM:+0100
TZOFFSETTO:+0200
TZNAME:CEST
DTSTART:19700329T020000
RRULE:FREQ=YEARLY;INTERVAL=1;BYDAY=-1SU;BYMONTH=3
END:DAYLIGHT
BEGIN:STANDARD
TZOFFSETFROM:+0200
TZOFFSETTO:+0100
TZNAME:CET
DTSTART:19701025T030000
RRULE:FREQ=YEARLY;INTERVAL=1;BYDAY=-1SU;BYMONTH=10
END:STANDARD
END:VTIMEZONE
BEGIN:VEVENT
UID:04a0152ef4a5503984950dd4c8c5feff@gruene-os.de
URL;VALUE=URI:https://gruene-os.de/blog/termine/projektgruppentreffen-ges
 undheit-pflege/
LOCATION:VHS Raum 205, Bergstraße 8, Osnabrück
SUMMARY:Projektgruppentreffen Gesundheit & Pflege
DESCRIPTION;ALTREP="data:text/html,%0A%3Cp%3EAm%20Donnerstag%2C%2012.%20J
 uni%2C%20um%2018%3A00%20trifft%20sich%20die%20Projektgruppe%20Pflege.%20P
 flege-%20und%20Gesundheitsversorgung%20sind%20zentrale%20Bestandteile%20d
 er%20%C3%B6ffentlichen%20Daseinsvorsorge.%20Die%20Projektgruppe%20setzt%2
 0sich%20daf%C3%BCr%20ein%2C%20diese%20Bereiche%20sozial%20gerecht%2C%20zu
 kunftsf%C3%A4hig%20und%20%C3%B6kologisch%20verantwortungsvoll%20zu%20gest
 alten.%20Es%20geht%20um%20mehr%20als%20funktionierende%20Strukturen%20%E2
 %80%93%20es%20geht%20um%20F%C3%BCrsorge%2C%20Teilhabe%20und%20Lebensquali
 t%C3%A4t%20f%C3%BCr%20alle.%3C%2Fp%3E%0A%0A%0A%0A%3Cp%3EAuch%20interessie
 rte%20Nicht-Mitglieder%20sind%20herzlich%20willkommen.%20Wenn%20Du%20dabe
 i%20sein%20willst%2C%20melde%20Dich%20am%20besten%20bei%26nbsp%3B%3Ca%20h
 ref%3D%22https%3A%2F%2Fgruene-os.de%2Fblog%2Ftermine%2Fprojektgruppentref
 fen-tierschutz-2%2F%23%22%3Epartei%40gruene-os.de%3C%2Fa%3E.%20Du%20kanns
 t%20aber%20auch%20spontan%20vorbeikommen.%3C%2Fp%3E%0A":Am Donnerstag\, 1
 2. Juni\, um 18:00 trifft sich die Projektgruppe Pflege. Pflege- und Gesu
 ndheitsversorgung sind zentrale Bestandteile der öffentlichen Daseinsvor
 sorge. Die Projektgruppe setzt sich dafür ein\, diese Bereiche sozial ge
 recht\, zukunftsfähig und ökologisch verantwortungsvoll zu gestalten. E
 s geht um mehr als funktionierende Strukturen – es geht um Fürsorge\, 
 Teilhabe und Lebensqualität für alle.\n\nAuch interessierte Nicht-Mitgl
 ieder sind herzlich willkommen. Wenn Du dabei sein willst\, melde Dich am
  besten bei partei@gruene-os.de. Du kannst aber auch spontan vorbeikomme
 n.
CLASS:PUBLIC
DTSTART;TZID=Europe/Berlin:20250612T180000
DTEND;TZID=Europe/Berlin:20250612T190000
DTSTAMP:20260424T195510
END:VEVENT
END:VCALENDAR