BEGIN:VCALENDAR
VERSION:2.0
PRODID:gruene-os.de
METHOD:PUBLISH
BEGIN:VTIMEZONE
TZID:Europe/Berlin
X-LIC-LOCATION:Europe/Berlin
BEGIN:DAYLIGHT
TZOFFSETFROM:+0100
TZOFFSETTO:+0200
TZNAME:CEST
DTSTART:19700329T020000
RRULE:FREQ=YEARLY;INTERVAL=1;BYDAY=-1SU;BYMONTH=3
END:DAYLIGHT
BEGIN:STANDARD
TZOFFSETFROM:+0200
TZOFFSETTO:+0100
TZNAME:CET
DTSTART:19701025T030000
RRULE:FREQ=YEARLY;INTERVAL=1;BYDAY=-1SU;BYMONTH=10
END:STANDARD
END:VTIMEZONE
BEGIN:VEVENT
UID:6e4651dd5832492b551a1d93700e26b8@gruene-os.de
URL;VALUE=URI:https://gruene-os.de/blog/termine/podiumsdiskussion-in-wiss
 ingen-mit-luca-wirkus/
LOCATION:Gemeindehaus der evangelischen Kirchengemeinde, Englerstr. 1, Bi
 ssendorf
SUMMARY:Podiumsdiskussion in Wissingen – mit Luca Wirkus
DESCRIPTION;ALTREP="data:text/html,%0A%3Cp%3EAm%20Dienstag%2C%2014%20Janu
 ar%2C%20findet%20im%20Gemeindehaus%20der%20evangelischen%20Kirchengemeind
 e%20in%20Wissingen%20eine%20Podiumsdiskussion%20mit%20den%20Kandidat%2Ain
 nen%20der%20verschiedenen%20Parteien%20anl%C3%A4sslich%20der%20kommenden%
 20Bundestagswahl%20statt.%20%3C%2Fp%3E%0A%0A%0A%0A%3Cp%3EUnsere%20Kandida
 tin%20Luca%20Wirkus%20vertritt%20in%20dieser%20Runde%20Filiz%20Polat%2C%2
 0um%20unsere%20GR%C3%9CNEN%20Standpunkte%20zu%20vertreten.%20%3C%2Fp%3E%0
 A":Am Dienstag\, 14 Januar\, findet im Gemeindehaus der evangelischen Kir
 chengemeinde in Wissingen eine Podiumsdiskussion mit den Kandidat*innen d
 er verschiedenen Parteien anlässlich der kommenden Bundestagswahl statt.
 \n\nUnsere Kandidatin Luca Wirkus vertritt in dieser Runde Filiz Polat\, 
 um unsere GRÜNEN Standpunkte zu vertreten.
CLASS:PUBLIC
DTSTART;TZID=Europe/Berlin:20250114T180000
DTEND;TZID=Europe/Berlin:20250114T190000
DTSTAMP:20260424T195135
END:VEVENT
END:VCALENDAR