BEGIN:VCALENDAR
VERSION:2.0
PRODID:gruene-os.de
METHOD:PUBLISH
BEGIN:VTIMEZONE
TZID:Europe/Berlin
X-LIC-LOCATION:Europe/Berlin
BEGIN:DAYLIGHT
TZOFFSETFROM:+0100
TZOFFSETTO:+0200
TZNAME:CEST
DTSTART:19700329T020000
RRULE:FREQ=YEARLY;INTERVAL=1;BYDAY=-1SU;BYMONTH=3
END:DAYLIGHT
BEGIN:STANDARD
TZOFFSETFROM:+0200
TZOFFSETTO:+0100
TZNAME:CET
DTSTART:19701025T030000
RRULE:FREQ=YEARLY;INTERVAL=1;BYDAY=-1SU;BYMONTH=10
END:STANDARD
END:VTIMEZONE
BEGIN:VEVENT
UID:e0308baa54a4c0284e75365ffa99738f@gruene-os.de
URL;VALUE=URI:https://gruene-os.de/blog/termine/podiumsdiskussion-bei-ig-
 metall-mit-luca-wirkus/
LOCATION:Betriebs-Kantine Bertrams (Osnabrück), Knollstraße 12, Osnabr
 ück
SUMMARY:Podiumsdiskussion bei IG Metall – mit Luca Wirkus
DESCRIPTION;ALTREP="data:text/html,%0A%3Cp%3EAm%20Mittwoch%2C%2012.%20Feb
 ruar%2C%20l%C3%A4dt%20die%20IG%20Metall%20ab%2018%20Uhr%20zu%20einer%3Cbr
 %3EPodiumsdiskussion%20mit%20Vertreter%2Ainnen%20verschiedener%20Parteien
 %20in%20der%20Betriebs-Kantine%20Bertrams%20%28Osnabr%C3%BCck%29.%20%3C%2
 Fp%3E%0A%0A%0A%0A%3Cp%3EUnsere%20Direktkandidatin%20Luca%20Wirkus%20ist%2
 0f%C3%BCr%20uns%20vor%20Ort%2C%20um%20unsere%20GR%C3%9CNEN%20Standpunkte%
 20zu%20vertreten.%20%3C%2Fp%3E%0A":Am Mittwoch\, 12. Februar\, lädt die 
 IG Metall ab 18 Uhr zu einerPodiumsdiskussion mit Vertreter*innen verschi
 edener Parteien in der Betriebs-Kantine Bertrams (Osnabrück).\n\nUnsere 
 Direktkandidatin Luca Wirkus ist für uns vor Ort\, um unsere GRÜNEN Sta
 ndpunkte zu vertreten.
CLASS:PUBLIC
DTSTART;TZID=Europe/Berlin:20250212T180000
DTEND;TZID=Europe/Berlin:20250212T190000
DTSTAMP:20260424T195215
END:VEVENT
END:VCALENDAR