BEGIN:VCALENDAR
VERSION:2.0
PRODID:gruene-os.de
METHOD:PUBLISH
BEGIN:VTIMEZONE
TZID:Europe/Berlin
X-LIC-LOCATION:Europe/Berlin
BEGIN:DAYLIGHT
TZOFFSETFROM:+0100
TZOFFSETTO:+0200
TZNAME:CEST
DTSTART:19700329T020000
RRULE:FREQ=YEARLY;INTERVAL=1;BYDAY=-1SU;BYMONTH=3
END:DAYLIGHT
BEGIN:STANDARD
TZOFFSETFROM:+0200
TZOFFSETTO:+0100
TZNAME:CET
DTSTART:19701025T030000
RRULE:FREQ=YEARLY;INTERVAL=1;BYDAY=-1SU;BYMONTH=10
END:STANDARD
END:VTIMEZONE
BEGIN:VEVENT
UID:6d2b2e5f6973f3a445315cb79fcac76e@gruene-os.de
URL;VALUE=URI:https://gruene-os.de/blog/termine/parteisitzung-auf-in-die-
 projektgruppen/
LOCATION:Lagerhalle Raum 204, Rolandsmauer 26, Osnabrück
SUMMARY:Parteisitzung “Auf in die Projektgruppen”
DESCRIPTION;ALTREP="data:text/html,%0A%3Cp%3EWie%20bereits%20auf%20der%20
 Mitgliederversammlung%20angek%C3%BCndigt%2C%20wollen%20wir%20jetzt%20in%2
 0die%20Projektgruppenarbeit%20starten.%20Projektgruppen%20stehen%20allen%
 20Mitgliedern%20offen%20und%20besch%C3%A4ftigen%20sich%20mit%20verschiede
 nen%20inhaltlichen%20Themen%20mit%20kommunalpolitischen%20Bezug%20-%20dam
 it%20wir%20alle%20f%C3%BCr%20die%20anstehenden%20Kommunalwahlen%20im%20n%
 C3%A4chsten%20Jahr%20ger%C3%BCstet%20sind.%20Wir%20wollen%20am%20Mittwoch
 %20in%20die%20Bildung%20eben%20dieser%20Gruppen%20starten%2C%20aber%20auc
 h%20vorhandene%20Gruppen%20vorstellen.%20Herzlich%20Willkommen%20sind%20a
 lso%20alle%2C%20die%20bereits%20ein%20konkretes%20Interesse%20haben%2C%20
 aber%20auch%20die%2C%20die%20sich%20ein%20Engagement%20grunds%C3%A4tzlich
 %20vorstellen%20k%C3%B6nnen%2C%20aber%20erst%20einmal%20reinschnuppern%20
 und%20sich%20orientieren%20m%C3%B6chten.%3C%2Fp%3E%0A":Wie bereits auf de
 r Mitgliederversammlung angekündigt\, wollen wir jetzt in die Projektgru
 ppenarbeit starten. Projektgruppen stehen allen Mitgliedern offen und bes
 chäftigen sich mit verschiedenen inhaltlichen Themen mit kommunalpolitis
 chen Bezug - damit wir alle für die anstehenden Kommunalwahlen im nächs
 ten Jahr gerüstet sind. Wir wollen am Mittwoch in die Bildung eben diese
 r Gruppen starten\, aber auch vorhandene Gruppen vorstellen. Herzlich Wil
 lkommen sind also alle\, die bereits ein konkretes Interesse haben\, aber
  auch die\, die sich ein Engagement grundsätzlich vorstellen können\, a
 ber erst einmal reinschnuppern und sich orientieren möchten.
CLASS:PUBLIC
DTSTART;TZID=Europe/Berlin:20250326T190000
DTEND;TZID=Europe/Berlin:20250326T200000
DTSTAMP:20260424T195132
END:VEVENT
END:VCALENDAR