BEGIN:VCALENDAR
VERSION:2.0
PRODID:gruene-os.de
METHOD:PUBLISH
BEGIN:VTIMEZONE
TZID:Europe/Berlin
X-LIC-LOCATION:Europe/Berlin
BEGIN:DAYLIGHT
TZOFFSETFROM:+0100
TZOFFSETTO:+0200
TZNAME:CEST
DTSTART:19700329T020000
RRULE:FREQ=YEARLY;INTERVAL=1;BYDAY=-1SU;BYMONTH=3
END:DAYLIGHT
BEGIN:STANDARD
TZOFFSETFROM:+0200
TZOFFSETTO:+0100
TZNAME:CET
DTSTART:19701025T030000
RRULE:FREQ=YEARLY;INTERVAL=1;BYDAY=-1SU;BYMONTH=10
END:STANDARD
END:VTIMEZONE
BEGIN:VEVENT
UID:9dc78cbd4bd8293259679569f7d81f12@gruene-os.de
URL;VALUE=URI:https://gruene-os.de/blog/termine/parteisitzung-auf-in-den-
 wahlkampf/
LOCATION:online (Link auf Anfrage)
SUMMARY:Parteisitzung: Auf in den Wahlkampf!
DESCRIPTION;ALTREP="data:text/html,%0A%3Cp%3EWir%20treffen%20uns%20am%20M
 ittwoch%2C%20den%2010.%20August%2C%20um%2019%3A00%20Uhr%20online%20zur%20
 Parteisitzung%2C%20um%20%C3%BCber%20den%20aktuellen%20Planungsstand%20des
 %20Wahlkampfes%20zu%20informieren%20und%20zum%20Mitmachen%20zu%20motivier
 en.%20%3C%2Fp%3E%0A%0A%0A%0A%3Cp%3EAnmeldungen%20an%20%3Ca%20href%3D%22ma
 ilto%3Apartei%40gruene-os.de%22%3Epartei%40gruene-os.de%3C%2Fa%3E%3C%2Fp%
 3E%0A":Wir treffen uns am Mittwoch\, den 10. August\, um 19:00 Uhr online
  zur Parteisitzung\, um über den aktuellen Planungsstand des Wahlkampfes
  zu informieren und zum Mitmachen zu motivieren.\n\nAnmeldungen an partei
 @gruene-os.de
CLASS:PUBLIC
DTSTART;TZID=Europe/Berlin:20220810T190000
DTEND;TZID=Europe/Berlin:20220810T200000
DTSTAMP:20260424T193900
END:VEVENT
END:VCALENDAR