BEGIN:VCALENDAR
VERSION:2.0
PRODID:gruene-os.de
METHOD:PUBLISH
BEGIN:VTIMEZONE
TZID:Europe/Berlin
X-LIC-LOCATION:Europe/Berlin
BEGIN:DAYLIGHT
TZOFFSETFROM:+0100
TZOFFSETTO:+0200
TZNAME:CEST
DTSTART:19700329T020000
RRULE:FREQ=YEARLY;INTERVAL=1;BYDAY=-1SU;BYMONTH=3
END:DAYLIGHT
BEGIN:STANDARD
TZOFFSETFROM:+0200
TZOFFSETTO:+0100
TZNAME:CET
DTSTART:19701025T030000
RRULE:FREQ=YEARLY;INTERVAL=1;BYDAY=-1SU;BYMONTH=10
END:STANDARD
END:VTIMEZONE
BEGIN:VEVENT
UID:9484d8b0c09d33e9ed7f5f8b125d99b7@gruene-os.de
URL;VALUE=URI:https://gruene-os.de/blog/termine/parteisitzung-4/
LOCATION:Kath. Familienbildungsstätte, Große Rosenstraße 18, Osnabrüc
 k
SUMMARY:„Integration durch Arbeit: Wie steht es um die berufliche Integ
 ration von Migrant*innen in der Friedensstadt Osnabrück?“
DESCRIPTION;ALTREP="data:text/html,%0A%3Cp%3EDie%20M%C3%B6glichkeit%20zur
 %20gleichberechtigten%20Teilhabe%20am%20Erwerbsleben%20ist%20eine%20der%2
 0wesentlichen%20Voraussetzungen%20f%C3%BCr%20erfolgreiche%20Integration.%
 20%C3%9Cber%20den%20Arbeitsalltag%20l%C3%A4sst%20sich%20nicht%20nur%20ein
 facher%20Anschluss%20an%20das%20gesellschaftliche%20Leben%20finden.%20Den
 %20eigenen%20Lebensunterhalt%20bestreiten%20zu%20k%C3%B6nnen%2C%20erm%C3%
 B6glicht%20auch%20ein%20selbstbestimmtes%20und%20w%C3%BCrdevolles%20Leben
 .%20Nicht%20umsonst%20ist%20in%20Artikel%2023%20der%20Allgemeinen%20Erkl%
 C3%A4rung%20der%20Menschenrechte%20das%20Recht%20auf%20Arbeit%20festgehal
 ten.%20Auch%20mit%20Blick%20auf%20den%20allseits%20grassierenden%20Fachkr
 %C3%A4ftemangel%20und%20%C3%BCber%20700.000%20offene%20Stellen%20in%20Deu
 tschland%20ist%20eine%20gelingende%20Arbeitsmarktintegration%20von%20zent
 raler%20Bedeutung.%3C%2Fp%3E%0A%0A%0A%0A%3Cp%3ETrotz%20aller%20bestehende
 n%20Herausforderungen%20wird%20in%20Osnabr%C3%BCck%20bereits%20einiges%20
 zur%20Integration%20von%20Migrant%2Ainnen%20in%20den%20Arbeitsmarkt%20get
 an.%20Beispielsweise%20qualifiziert%20das%20hiesige%20Jobcenter%20in%20Ko
 operation%20mit%20der%20Handwerkskammer%20und%20Arbeitgeber%2Ainnen%20%C3
 %BCber%20den%20Gewerkepass%20gefl%C3%BCchtete%20Menschen%20zu%20fachlich%
 20versierten%20Helfer%2Ainnen%20etwa%20im%20Stra%C3%9Fenbau%2C%20Metallba
 u%20oder%20Malereibetrieben.%20Zudem%20stehen%20im%20Migrations-%20und%20
 Kompetenzcentrum%20die%20sprachliche%20und%20berufliche%20F%C3%B6rderung%
 20von%20Migrant%2Ainnen%20im%20Mittelpunkt.%3C%2Fp%3E%0A%0A%0A%0A%3Cp%3EW
 ie%20stellt%20sich%20die%20Situation%20der%20beruflichen%20Integration%20
 in%20Osnabr%C3%BCck%20dar%3F%20Welchen%20H%C3%BCrden%20stehen%20Neuankomm
 ende%20auf%20dem%20Weg%20zur%20erfolgreichen%20Teilhabe%20am%20Arbeitsmar
 kt%20gegen%C3%BCber%3F%20Und%20welchen%20Beitrag%20kann%20Kommunalpolitik
 %20hier%20konkret%20leisten%3F%3C%2Fp%3E%0A%0A%0A%0A%3Cp%3E%C3%9Cber%20di
 ese%20und%20viele%20weitere%20Fragen%20diskutieren%20wir%20am%3C%2Fp%3E%0
 A%0A%0A%0A%3Cp%3E%3Cstrong%3EMittwoch%2C%20den%2020.%20September%3Cbr%3Eu
 m%2019%3A00%20Uhr%3Cbr%3Eim%20Gro%C3%9Fen%20Saal%20der%20Kath.%20Familien
 bildungsst%C3%A4tte%20%28FABI%2C%20Gro%C3%9Fe%20Rosenstra%C3%9Fe%2018%29%
 3C%2Fstrong%3E%3C%2Fp%3E%0A%0A%0A%0A%3Cp%3Emit%20folgenden%20G%C3%A4sten%
 3A%3C%2Fp%3E%0A%0A%0A%0A%3Cp%3E%3Cstrong%3EAnke%20Jacobsen%3C%2Fstrong%3E
 %20%7C%20Vorsitzende%20des%20Sozialausschusses%20der%20Stadt%20Osnabr%C3%
 BCck%20und%20sozialpolitische%20Sprecherin%20der%20GR%C3%9CNEN%20Ratsfrak
 tion%3C%2Fp%3E%0A%0A%0A%0A%3Cp%3E%3Cstrong%3ENicole%20Anell%20%3C%2Fstron
 g%3E%7C%20Gesch%C3%A4ftsf%C3%BChrerin%20des%20Jobcenters%20Osnabr%C3%BCck
 %3C%2Fp%3E%0A%0A%0A%0A%3Cp%3E%3Cstrong%3EMarie-Theres%20Volk%3C%2Fstrong%
 3E%20%7C%20Projektkoordinatorin%20des%20IQ%20Netzwerks%20in%20Niedersachs
 en%3C%2Fp%3E%0A%0A%0A%0A%3Cp%3E%3Cstrong%3ETamer%20Khair%20%3C%2Fstrong%3
 E%7CGefl%C3%BCchteter%20aus%20dem%20Sudan%3C%2Fp%3E%0A%0A%0A%0A%3Cp%3EMod
 eriert%20wird%20die%20Veranstaltung%20vom%20Co-Sprecher%20der%20Osnabr%C3
 %BCcker%20GR%C3%9CNEN%2C%20Maximilian%20Strautmann.%20Wir%20laden%20Sie%2
 0und%20Euch%20herzlich%20ein%2C%20mit%20uns%20zu%20diskutieren%20und%20di
 ese%20Einladung%20%C3%BCber%20zur%20Verf%C3%BCgung%20stehende%20Verteiler
 %20oder%20Medien%20zu%20verbreiten.%20F%C3%BCr%20R%C3%BCckfragen%20steht%
 20Maximilian%20Strautmann%20zur%20Verf%C3%BCgung%3A%200152-37717414%20%7C
 %20%3Ca%20href%3D%22mailto%3Astrautmann%40gruene-os.de%22%3Estrautmann%40
 gruene-os.de%3C%2Fa%3E%3C%2Fp%3E%0A":Die Möglichkeit zur gleichberechtig
 ten Teilhabe am Erwerbsleben ist eine der wesentlichen Voraussetzungen f
 ür erfolgreiche Integration. Über den Arbeitsalltag lässt sich nicht n
 ur einfacher Anschluss an das gesellschaftliche Leben finden. Den eigenen
  Lebensunterhalt bestreiten zu können\, ermöglicht auch ein selbstbesti
 mmtes und würdevolles Leben. Nicht umsonst ist in Artikel 23 der Allgeme
 inen Erklärung der Menschenrechte das Recht auf Arbeit festgehalten. Auc
 h mit Blick auf den allseits grassierenden Fachkräftemangel und über 70
 0.000 offene Stellen in Deutschland ist eine gelingende Arbeitsmarktinteg
 ration von zentraler Bedeutung.\n\nTrotz aller bestehenden Herausforderun
 gen wird in Osnabrück bereits einiges zur Integration von Migrant*innen 
 in den Arbeitsmarkt getan. Beispielsweise qualifiziert das hiesige Jobcen
 ter in Kooperation mit der Handwerkskammer und Arbeitgeber*innen über de
 n Gewerkepass geflüchtete Menschen zu fachlich versierten Helfer*innen e
 twa im Straßenbau\, Metallbau oder Malereibetrieben. Zudem stehen im Mig
 rations- und Kompetenzcentrum die sprachliche und berufliche Förderung v
 on Migrant*innen im Mittelpunkt.\n\nWie stellt sich die Situation der ber
 uflichen Integration in Osnabrück dar? Welchen Hürden stehen Neuankomme
 nde auf dem Weg zur erfolgreichen Teilhabe am Arbeitsmarkt gegenüber? Un
 d welchen Beitrag kann Kommunalpolitik hier konkret leisten?\n\nÜber die
 se und viele weitere Fragen diskutieren wir am\n\nMittwoch\, den 20. Sept
 emberum 19:00 Uhrim Großen Saal der Kath. Familienbildungsstätte (FABI\
 , Große Rosenstraße 18)\n\nmit folgenden Gästen:\n\nAnke Jacobsen | Vo
 rsitzende des Sozialausschusses der Stadt Osnabrück und sozialpolitische
  Sprecherin der GRÜNEN Ratsfraktion\n\nNicole Anell | Geschäftsführeri
 n des Jobcenters Osnabrück\n\nMarie-Theres Volk | Projektkoordinatorin d
 es IQ Netzwerks in Niedersachsen\n\nTamer Khair |Geflüchteter aus dem Su
 dan\n\nModeriert wird die Veranstaltung vom Co-Sprecher der Osnabrücker 
 GRÜNEN\, Maximilian Strautmann. Wir laden Sie und Euch herzlich ein\, mi
 t uns zu diskutieren und diese Einladung über zur Verfügung stehende Ve
 rteiler oder Medien zu verbreiten. Für Rückfragen steht Maximilian Stra
 utmann zur Verfügung: 0152-37717414 | strautmann@gruene-os.de
CLASS:PUBLIC
DTSTART;TZID=Europe/Berlin:20230920T190000
DTEND;TZID=Europe/Berlin:20230920T200000
DTSTAMP:20260424T193707
END:VEVENT
END:VCALENDAR