BEGIN:VCALENDAR
VERSION:2.0
PRODID:gruene-os.de
METHOD:PUBLISH
BEGIN:VTIMEZONE
TZID:Europe/Berlin
X-LIC-LOCATION:Europe/Berlin
BEGIN:DAYLIGHT
TZOFFSETFROM:+0100
TZOFFSETTO:+0200
TZNAME:CEST
DTSTART:19700329T020000
RRULE:FREQ=YEARLY;INTERVAL=1;BYDAY=-1SU;BYMONTH=3
END:DAYLIGHT
BEGIN:STANDARD
TZOFFSETFROM:+0200
TZOFFSETTO:+0100
TZNAME:CET
DTSTART:19701025T030000
RRULE:FREQ=YEARLY;INTERVAL=1;BYDAY=-1SU;BYMONTH=10
END:STANDARD
END:VTIMEZONE
BEGIN:VEVENT
UID:d6b5f4ad001b52784bdb8ed855c24f2c@gruene-os.de
URL;VALUE=URI:https://gruene-os.de/blog/termine/parteisitzung-3/
LOCATION:Lagerhalle: Raum 205, Rolandsmauer 26, Osnabrück
SUMMARY:„Wohnen, Flächen, Klimaschutz – ein unauflösbarer Konflikt?
 “
DESCRIPTION;ALTREP="data:text/html,%0A%3Cp%3EOsnabr%C3%BCck%20w%C3%A4chst
 .%20In%20der%20Friedensstadt%20wohnen%20mit%20knapp%20172.000%20Einwohner
 %2Ainnen%20mehr%20Menschen%20als%20je%20zuvor.%20In%20der%20Folge%20steig
 t%20der%20Bedarf%20an%20individuellem%20Wohnraum%2C%20insbesondere%20beza
 hlbarem%2C%20aber%20auch%20barrierefreiem%20und%20altersgerechtem%20Wohne
 n.%20Und%20mit%20ihm%20der%20Wohnungsdruck%20und%20-preis%20f%C3%BCr%20vi
 ele%20junge%2C%20alte%2C%20neu-%20und%20altans%C3%A4ssige%20Menschen%20in
 %20Osnabr%C3%BCck.%20%3Cstrong%3E%3C%2Fstrong%3E%3C%2Fp%3E%0A%0A%0A%0A%3C
 p%3EZugleich%20aber%20wachsen%20die%20im%20Stadtgebiet%20zur%20Verf%C3%BC
 gung%20stehenden%20und%20infrage%20kommenden%20Fl%C3%A4chen%20nicht%20mit
 .%20Im%20Gegenteil.%20Die%20Fl%C3%A4chen%20sind%20knapp%2C%20die%20daran%
 20gekn%C3%BCpften%20natur-%20und%20klimaschutzbezogenen%20Erfordernisse%2
 0hoch.%20Und%20das%20in%20einer%20Stadt%2C%20die%20sich%20im%20letzten%20
 Jahr%20mit%20gro%C3%9Fer%20Mehrheit%20dem%20Schutz%20der%20Gr%C3%BCnen%20
 Finger%20und%20der%20Klimaneutralit%C3%A4t%20bis%20sp%C3%A4testens%202040
 %20verpflichtet%20hat.%3C%2Fp%3E%0A%0A%0A%0A%3Cp%3EIn%20dieser%20Gemengel
 age%20weckt%20jede%20weitere%20Planung%20f%C3%BCr%20eine%20Fl%C3%A4chenbe
 bauung%20Widerstand%20bei%3Cbr%3EAnwohner%2Ainnen%20sowie%20Klima-%20und%
 20Naturschutzinitiativen.%20Klar%20ist%3A%20Endlos%20verdichten%20geht%20
 nicht.%20Nicht%20wohnen%2C%20geht%20aber%20auch%20nicht.%20Deshalb%20brau
 cht%20es%20L%C3%B6sungen.%3C%2Fp%3E%0A%0A%0A%0A%3Cp%3EWelcher%20Wohnraum%
 20muss%20in%20Osnabr%C3%BCck%20geschaffen%20werden%20und%20wie%20muss%20s
 ich%20der%20Bestand%20entwickeln%3F%20Welche%20Fl%C3%A4chen%20stehen%20f%
 C3%BCr%20den%20Bau%20neuer%20H%C3%A4user%20und%20Wohnungen%20%C3%BCberhau
 pt%20noch%20zur%20Verf%C3%BCgung%3F%20Und%20welche%20Ans%C3%A4tze%20gibt%
 20es%2C%20um%20den%20Konflikt%20zwischen%20Wohnen%2C%20Fl%C3%A4chenknapph
 eit%20und%20Klimaschutz%20zu%20l%C3%B6sen%3F%3C%2Fp%3E%0A%0A%0A%0A%3Cp%3E
 %C3%9Cber%20diese%20und%20viele%20weitere%20Fragen%20diskutieren%20die%20
 Osnabr%C3%BCcker%20GR%C3%9CNEN%20am%3C%2Fp%3E%0A%0A%0A%0A%3Cp%3E%3Cstrong
 %3EMittwoch%2C%20den%2031.%20Mai%202023%20um%2019%3A15%20Uhr%3Cbr%3Ein%20
 der%20Lagerhalle%20%28Raum%20205%2C%20Rolandsmauer%2026%29%3C%2Fstrong%3E
 %3C%2Fp%3E%0A%0A%0A%0A%3Cp%3Emit%20folgenden%20G%C3%A4sten%3A%3C%2Fp%3E%0
 A%0A%0A%0A%3Cp%3E%3Cstrong%3EJens%20Meier%3C%2Fstrong%3E%20%7C%20Vorsitze
 nder%20des%20Ausschusses%20f%C3%BCr%20Stadtentwicklung%20und%20Umwelt%3C%
 2Fp%3E%0A%0A%0A%0A%3Cp%3E%3Cstrong%3ECarsten%20Wanzelius%3C%2Fstrong%3E%2
 0%7C%20Gesch%C3%A4ftsf%C3%BChrer%20des%20Mietervereins%20Osnabr%C3%BCck%3
 C%2Fp%3E%0A%0A%0A%0A%3Cp%3E%3Cstrong%3EDirk%20Zeiher%20%3C%2Fstrong%3E%7C
 %20B%C3%BCrger%2Ainneninitiative%20%E2%80%9EOsnabr%C3%BCck%20klimaneutral
 %E2%80%9C%3C%2Fp%3E%0A%0A%0A%0A%3Cp%3EWir%20laden%20Sie%20und%20Euch%20he
 rzlich%20ein%2C%20mit%20uns%20zu%20diskutieren%20und%20diese%20Einladung%
 20%C3%BCber%20Ihre%2FEure%20Verteiler%20oder%20den%20Ihnen%2FEuch%20zur%2
 0Verf%C3%BCgung%20stehenden%20Medien%20zu%20verbreiten.%20Eine%20Anmeldun
 g%20ist%20nicht%20n%C3%B6tig.%20F%C3%BCr%20R%C3%BCckfragen%20steht%20Ihne
 n%2FEuch%20Max%20Strautmann%20zur%20Verf%C3%BCgung%3A%20%3Ca%20href%3D%22
 mailto%3Astrautmann%40gruene-os.de%22%3Estrautmann%40gruene-os.de%3C%2Fa%
 3E%3C%2Fp%3E%0A":Osnabrück wächst. In der Friedensstadt wohnen mit knap
 p 172.000 Einwohner*innen mehr Menschen als je zuvor. In der Folge steigt
  der Bedarf an individuellem Wohnraum\, insbesondere bezahlbarem\, aber a
 uch barrierefreiem und altersgerechtem Wohnen. Und mit ihm der Wohnungsdr
 uck und -preis für viele junge\, alte\, neu- und altansässige Menschen 
 in Osnabrück.\n\nZugleich aber wachsen die im Stadtgebiet zur Verfügung
  stehenden und infrage kommenden Flächen nicht mit. Im Gegenteil. Die Fl
 ächen sind knapp\, die daran geknüpften natur- und klimaschutzbezogenen
  Erfordernisse hoch. Und das in einer Stadt\, die sich im letzten Jahr mi
 t großer Mehrheit dem Schutz der Grünen Finger und der Klimaneutralitä
 t bis spätestens 2040 verpflichtet hat.\n\nIn dieser Gemengelage weckt j
 ede weitere Planung für eine Flächenbebauung Widerstand beiAnwohner*inn
 en sowie Klima- und Naturschutzinitiativen. Klar ist: Endlos verdichten g
 eht nicht. Nicht wohnen\, geht aber auch nicht. Deshalb braucht es Lösun
 gen.\n\nWelcher Wohnraum muss in Osnabrück geschaffen werden und wie mus
 s sich der Bestand entwickeln? Welche Flächen stehen für den Bau neuer 
 Häuser und Wohnungen überhaupt noch zur Verfügung? Und welche Ansätze
  gibt es\, um den Konflikt zwischen Wohnen\, Flächenknappheit und Klimas
 chutz zu lösen?\n\nÜber diese und viele weitere Fragen diskutieren die 
 Osnabrücker GRÜNEN am\n\nMittwoch\, den 31. Mai 2023 um 19:15 Uhrin der
  Lagerhalle (Raum 205\, Rolandsmauer 26)\n\nmit folgenden Gästen:\n\nJen
 s Meier | Vorsitzender des Ausschusses für Stadtentwicklung und Umwelt\n
 \nCarsten Wanzelius | Geschäftsführer des Mietervereins Osnabrück\n\nD
 irk Zeiher | Bürger*inneninitiative „Osnabrück klimaneutral“\n\nWir
  laden Sie und Euch herzlich ein\, mit uns zu diskutieren und diese Einla
 dung über Ihre/Eure Verteiler oder den Ihnen/Euch zur Verfügung stehend
 en Medien zu verbreiten. Eine Anmeldung ist nicht nötig. Für Rückfrage
 n steht Ihnen/Euch Max Strautmann zur Verfügung: strautmann@gruene-os.de
CLASS:PUBLIC
DTSTART;TZID=Europe/Berlin:20230531T191500
DTEND;TZID=Europe/Berlin:20230531T201500
DTSTAMP:20260424T193658
END:VEVENT
END:VCALENDAR