BEGIN:VCALENDAR
VERSION:2.0
PRODID:gruene-os.de
METHOD:PUBLISH
BEGIN:VTIMEZONE
TZID:Europe/Berlin
X-LIC-LOCATION:Europe/Berlin
BEGIN:DAYLIGHT
TZOFFSETFROM:+0100
TZOFFSETTO:+0200
TZNAME:CEST
DTSTART:19700329T020000
RRULE:FREQ=YEARLY;INTERVAL=1;BYDAY=-1SU;BYMONTH=3
END:DAYLIGHT
BEGIN:STANDARD
TZOFFSETFROM:+0200
TZOFFSETTO:+0100
TZNAME:CET
DTSTART:19701025T030000
RRULE:FREQ=YEARLY;INTERVAL=1;BYDAY=-1SU;BYMONTH=10
END:STANDARD
END:VTIMEZONE
BEGIN:VEVENT
UID:b67e6d80fcfb10e773f5525f0d466b11@gruene-os.de
URL;VALUE=URI:https://gruene-os.de/blog/termine/osnabrueck-wie-gehts-in-v
 oxtrup/
LOCATION:Kreisel Ecke Düstruper Straße/Meller Straße in Voxtrup
SUMMARY:Osnabrück wie geht´s? – in Voxtrup
DESCRIPTION;ALTREP="data:text/html,%0A%3Cp%3EUnter%20dem%20Motto%20%E2%80
 %9EOsnabr%C3%BCck%2C%20wie%20geht%E2%80%99s%3F%E2%80%9C%20sind%20die%20GR
 %C3%9CNEN%20samstags%20zwischen%2010-12%20Uhr%20an%20einem%20Ort%20in%20d
 er%20Stadt%20unterwegs.%20Am%2017.%20Mai%20sind%20sie%20ab%2010%20Uhr%20a
 m%20Kreisel%20Ecke%20D%C3%BCstruper%20Stra%C3%9Fe%2FMeller%20Stra%C3%9Fe%
 20in%20Voxtrup.%3C%2Fp%3E%0A%0A%0A%0A%3Cp%3E%E2%80%9EUns%20geht%20es%20ni
 cht%20darum%2C%20nur%20zu%20reden%20%E2%80%93%20sondern%20vor%20allem%20z
 uzuh%C3%B6ren%E2%80%9C%2C%20sagen%20Luca%20Wirkus%20und%20Max%20Strautman
 n%2C%20Vorsitzende%20der%20Osnabr%C3%BCcker%20GR%C3%9CNEN.%20%E2%80%9EWir
 %20m%C3%B6chten%20wissen%2C%20was%20die%20Menschen%20im%20Alltag%20bewegt
 %3A%20Wo%20dr%C3%BCckt%20der%20Schuh%3F%20Was%20l%C3%A4uft%20gut%2C%20was
 %20l%C3%A4uft%20schlecht%3F%20Was%20braucht%20es%20in%20der%20Stadt%20%E2
 %80%93%20und%20wo%20k%C3%B6nnen%20wir%20konkret%20unterst%C3%BCtzen%3F%E2
 %80%9C%3C%2Fp%3E%0A%0A%0A%0A%3Cp%3E%3C%2Fp%3E%0A":Unter dem Motto „Osna
 brück\, wie geht’s?“ sind die GRÜNEN samstags zwischen 10-12 Uhr an
  einem Ort in der Stadt unterwegs. Am 17. Mai sind sie ab 10 Uhr am Kreis
 el Ecke Düstruper Straße/Meller Straße in Voxtrup.\n\n„Uns geht es n
 icht darum\, nur zu reden – sondern vor allem zuzuhören“\, sagen Luc
 a Wirkus und Max Strautmann\, Vorsitzende der Osnabrücker GRÜNEN. „Wi
 r möchten wissen\, was die Menschen im Alltag bewegt: Wo drückt der Sch
 uh? Was läuft gut\, was läuft schlecht? Was braucht es in der Stadt –
  und wo können wir konkret unterstützen?“
CLASS:PUBLIC
DTSTART;TZID=Europe/Berlin:20250517T100000
DTEND;TZID=Europe/Berlin:20250517T120000
DTSTAMP:20260424T195216
END:VEVENT
END:VCALENDAR