BEGIN:VCALENDAR
VERSION:2.0
PRODID:gruene-os.de
METHOD:PUBLISH
BEGIN:VTIMEZONE
TZID:Europe/Berlin
X-LIC-LOCATION:Europe/Berlin
BEGIN:DAYLIGHT
TZOFFSETFROM:+0100
TZOFFSETTO:+0200
TZNAME:CEST
DTSTART:19700329T020000
RRULE:FREQ=YEARLY;INTERVAL=1;BYDAY=-1SU;BYMONTH=3
END:DAYLIGHT
BEGIN:STANDARD
TZOFFSETFROM:+0200
TZOFFSETTO:+0100
TZNAME:CET
DTSTART:19701025T030000
RRULE:FREQ=YEARLY;INTERVAL=1;BYDAY=-1SU;BYMONTH=10
END:STANDARD
END:VTIMEZONE
BEGIN:VEVENT
UID:6150df4c4b39cbbc215427e34793a279@gruene-os.de
URL;VALUE=URI:https://gruene-os.de/blog/termine/osnabrueck-wie-gehts-8/
LOCATION:Nahne
SUMMARY:Osnabrück, wie geht´s?
DESCRIPTION;ALTREP="data:text/html,%0A%3Cp%3EWir%20m%C3%B6chten%20wissen%
 2C%20was%20die%20Menschen%20im%20Alltag%20bewegt%3A%3Cbr%3EWas%20l%C3%A4u
 ft%20gut%2C%20was%20l%C3%A4uft%20schlecht%3F%20Was%20braucht%20ihr%20%E2%
 80%93%20und%20wo%20k%C3%B6nnen%20wir%20konkret%20unterst%C3%BCtzen%3F%3C%
 2Fp%3E%0A%0A%0A%0A%3Cp%3E%3Ca%3E%3C%2Fa%3E%3Cimg%20height%3D%2216%22%20wi
 dth%3D%2216%22%20alt%3D%22%F0%9F%92%9A%22%20src%3D%22https%3A%2F%2Fstatic
 .xx.fbcdn.net%2Fimages%2Femoji.php%2Fv9%2Ft94%2F1%2F16%2F1f49a.png%22%3E%
 20Unter%20dem%20Motto%20%E2%80%9EOsnabr%C3%BCck%2C%20wie%20geht%E2%80%99s
 %3F%E2%80%9C%20sind%20die%20GR%C3%9CNEN%20samstags%20zwischen%2010-12%20U
 hr%20an%20einem%20Ort%20in%20der%20Stadt%20unterwegs.%3C%2Fp%3E%0A%0A%0A%
 0A%3Cp%3E%3Cimg%20height%3D%2216%22%20width%3D%2216%22%20alt%3D%22%F0%9F%
 93%8D%22%20src%3D%22https%3A%2F%2Fstatic.xx.fbcdn.net%2Fimages%2Femoji.ph
 p%2Fv9%2Ft2d%2F1%2F16%2F1f4cd.png%22%3E%20Am%2021.%20Juni%20sind%20wir%20
 ab%2010%20Uhr%20an%20der%20in%20Nahne%20in%20der%20N%C3%A4he%20der%20Verb
 raucherm%C3%A4rkte.%3C%2Fp%3E%0A":Wir möchten wissen\, was die Menschen 
 im Alltag bewegt:Was läuft gut\, was läuft schlecht? Was braucht ihr 
 – und wo können wir konkret unterstützen?\n\n Unter dem Motto „Osna
 brück\, wie geht’s?“ sind die GRÜNEN samstags zwischen 10-12 Uhr an
  einem Ort in der Stadt unterwegs.\n\n Am 21. Juni sind wir ab 10 Uhr an 
 der in Nahne in der Nähe der Verbrauchermärkte.
CLASS:PUBLIC
DTSTART;TZID=Europe/Berlin:20250621T100000
DTEND;TZID=Europe/Berlin:20250621T120000
DTSTAMP:20260424T195137
END:VEVENT
END:VCALENDAR