BEGIN:VCALENDAR
VERSION:2.0
PRODID:gruene-os.de
METHOD:PUBLISH
BEGIN:VTIMEZONE
TZID:Europe/Berlin
X-LIC-LOCATION:Europe/Berlin
BEGIN:DAYLIGHT
TZOFFSETFROM:+0100
TZOFFSETTO:+0200
TZNAME:CEST
DTSTART:19700329T020000
RRULE:FREQ=YEARLY;INTERVAL=1;BYDAY=-1SU;BYMONTH=3
END:DAYLIGHT
BEGIN:STANDARD
TZOFFSETFROM:+0200
TZOFFSETTO:+0100
TZNAME:CET
DTSTART:19701025T030000
RRULE:FREQ=YEARLY;INTERVAL=1;BYDAY=-1SU;BYMONTH=10
END:STANDARD
END:VTIMEZONE
BEGIN:VEVENT
UID:4508ad5f568c17e2d4d0b53622642b09@gruene-os.de
URL;VALUE=URI:https://gruene-os.de/blog/termine/osnabrueck-wie-gehts-7/
LOCATION:Kreuzung Bürener Straße, Eversburg - Osnabrück
SUMMARY:„Osnabrück, wie geht’s?“
DESCRIPTION;ALTREP="data:text/html,%0A%3Ch2%20class%3D%22wp-block-heading
 %22%3EGR%C3%9CNE%20im%20Gespr%C3%A4ch%20vor%20Ort%3C%2Fh2%3E%0A%0A%0A%0A%
 3Cp%3EWir%20m%C3%B6chten%20wissen%2C%20was%20die%20Menschen%20im%20Alltag
 %20bewegt%3A%20Wo%20dr%C3%BCckt%20der%20Schuh%3F%20Was%20l%C3%A4uft%20gut
 %2C%20was%20l%C3%A4uft%20schlecht%3F%20Was%20braucht%20es%20in%20der%20St
 adt%20%E2%80%93%20und%20wo%20k%C3%B6nnen%20wir%20konkret%20unterst%C3%BCt
 zen%3F%3C%2Fp%3E%0A%0A%0A%0A%3Cp%3EUnter%20dem%20Motto%20%E2%80%9EOsnabr%
 C3%BCck%2C%20wie%20geht%E2%80%99s%3F%E2%80%9C%20sind%20die%20GR%C3%9CNEN%
 20samstags%20zwischen%2010-12%20Uhr%20an%20einem%20Ort%20in%20der%20Stadt
 %20unterwegs.%20Am%207.%20Juni%20sind%20sie%20ab%2010%20Uhr%20an%20der%20
 Kreuzung%20B%C3%BCrener%20Stra%C3%9Fe%20in%20Eversburg.%3Cbr%3E%3C%2Fp%3E
 %0A":GRÜNE im Gespräch vor Ort\n\nWir möchten wissen\, was die Mensche
 n im Alltag bewegt: Wo drückt der Schuh? Was läuft gut\, was läuft sch
 lecht? Was braucht es in der Stadt – und wo können wir konkret unterst
 ützen?\n\nUnter dem Motto „Osnabrück\, wie geht’s?“ sind die GRÜ
 NEN samstags zwischen 10-12 Uhr an einem Ort in der Stadt unterwegs. Am 7
 . Juni sind sie ab 10 Uhr an der Kreuzung Bürener Straße in Eversburg.
CLASS:PUBLIC
DTSTART;TZID=Europe/Berlin:20250607T100000
DTEND;TZID=Europe/Berlin:20250607T120000
DTSTAMP:20260424T195059
END:VEVENT
END:VCALENDAR