BEGIN:VCALENDAR
VERSION:2.0
PRODID:gruene-os.de
METHOD:PUBLISH
BEGIN:VTIMEZONE
TZID:Europe/Berlin
X-LIC-LOCATION:Europe/Berlin
BEGIN:DAYLIGHT
TZOFFSETFROM:+0100
TZOFFSETTO:+0200
TZNAME:CEST
DTSTART:19700329T020000
RRULE:FREQ=YEARLY;INTERVAL=1;BYDAY=-1SU;BYMONTH=3
END:DAYLIGHT
BEGIN:STANDARD
TZOFFSETFROM:+0200
TZOFFSETTO:+0100
TZNAME:CET
DTSTART:19701025T030000
RRULE:FREQ=YEARLY;INTERVAL=1;BYDAY=-1SU;BYMONTH=10
END:STANDARD
END:VTIMEZONE
BEGIN:VEVENT
UID:cf6c2d95661de7101d025ff23327ba81@gruene-os.de
URL;VALUE=URI:https://gruene-os.de/blog/termine/osnabrueck-wie-gehts-6/
LOCATION:Ärztehaus am Schölerberg, Meller Straße, Osnabrück
SUMMARY:Osnabrück, wie geht’s?
DESCRIPTION;ALTREP="data:text/html,%0A%3Cp%3E%3Cstrong%3EGR%C3%9CNE%20im%
 20Gespr%C3%A4ch%20vor%20Ort%3C%2Fstrong%3E%3C%2Fp%3E%0A%0A%0A%0A%3Cp%3EUn
 ter%20dem%20Motto%20%E2%80%9EOsnabr%C3%BCck%2C%20wie%20geht%E2%80%99s%3F%
 E2%80%9C%20sind%20die%20GR%C3%9CNEN%20samstags%20zwischen%2010-12%20Uhr%2
 0an%20einem%20Ort%20in%20der%20Stadt%20unterwegs.%20Am%2031.%20Mai%20sind
 %20sie%20ab%2010%20Uhr%20an%20der%20Meller%20Stra%C3%9Fe%20im%20Umfeld%20
 der%20Apotheke%2Fdes%20%C3%84rztehaus%20am%20Sch%C3%B6lerberg.%3Cbr%3E%3C
 %2Fp%3E%0A":GRÜNE im Gespräch vor Ort\n\nUnter dem Motto „Osnabrück\
 , wie geht’s?“ sind die GRÜNEN samstags zwischen 10-12 Uhr an einem 
 Ort in der Stadt unterwegs. Am 31. Mai sind sie ab 10 Uhr an der Meller S
 traße im Umfeld der Apotheke/des Ärztehaus am Schölerberg.
CLASS:PUBLIC
DTSTART;TZID=Europe/Berlin:20250531T100000
DTEND;TZID=Europe/Berlin:20250531T120000
DTSTAMP:20260424T195054
END:VEVENT
END:VCALENDAR