BEGIN:VCALENDAR
VERSION:2.0
PRODID:gruene-os.de
METHOD:PUBLISH
BEGIN:VTIMEZONE
TZID:Europe/Berlin
X-LIC-LOCATION:Europe/Berlin
BEGIN:DAYLIGHT
TZOFFSETFROM:+0100
TZOFFSETTO:+0200
TZNAME:CEST
DTSTART:19700329T020000
RRULE:FREQ=YEARLY;INTERVAL=1;BYDAY=-1SU;BYMONTH=3
END:DAYLIGHT
BEGIN:STANDARD
TZOFFSETFROM:+0200
TZOFFSETTO:+0100
TZNAME:CET
DTSTART:19701025T030000
RRULE:FREQ=YEARLY;INTERVAL=1;BYDAY=-1SU;BYMONTH=10
END:STANDARD
END:VTIMEZONE
BEGIN:VEVENT
UID:d0b80d157523781cbe49733808e3cbfa@gruene-os.de
URL;VALUE=URI:https://gruene-os.de/blog/termine/osnabrueck-wie-gehts-5/
LOCATION:Ecke Weidenstraße/Adolfstraße, Osnabrück
SUMMARY:„Osnabrück, wie geht’s?“
DESCRIPTION;ALTREP="data:text/html,%0A%3Cp%3E%3Cstrong%3EGR%C3%9CNE%20im%
 20Gespr%C3%A4ch%20vor%20Ort%3C%2Fstrong%3E%3C%2Fp%3E%0A%0A%0A%0A%3Cp%3EUn
 ter%20dem%20Motto%20%E2%80%9EOsnabr%C3%BCck%2C%20wie%20geht%E2%80%99s%3F%
 E2%80%9C%20sind%20die%20GR%C3%9CNEN%20samstags%20zwischen%2010-12%20Uhr%2
 0an%20einem%20Ort%20in%20der%20Stadt%20unterwegs.%20Am%2024.%20Mai%20sind
 %20sie%20ab%2010%20Uhr%20am%20der%20Ecke%20Weidenstra%C3%9Fe%2FAdolfstra%
 C3%9Fe%20in%20der%20W%C3%BCste.%26nbsp%3B%3C%2Fp%3E%0A%0A%0A%0A%3Cp%3EUns
 %20geht%20es%20nicht%20darum%2C%20nur%20zu%20reden%20%E2%80%93%20sondern%
 20vor%20allem%20zuzuh%C3%B6ren%E2%80%9C%2C%20sagen%20Luca%20Wirkus%20und%
 20Max%20Strautmann%2C%20Vorsitzende%20der%20Osnabr%C3%BCcker%20GR%C3%9CNE
 N.%20%E2%80%9EWir%20m%C3%B6chten%20wissen%2C%20was%20die%20Menschen%20im%
 20Alltag%20bewegt%3A%20Wo%20dr%C3%BCckt%20der%20Schuh%3F%20Was%20l%C3%A4u
 ft%20gut%2C%20was%20l%C3%A4uft%20schlecht%3F%20Was%20braucht%20es%20in%20
 der%20Stadt%20%E2%80%93%20und%20wo%20k%C3%B6nnen%20wir%20konkret%20unters
 t%C3%BCtzen%3F%E2%80%9C%3C%2Fp%3E%0A":GRÜNE im Gespräch vor Ort\n\nUnte
 r dem Motto „Osnabrück\, wie geht’s?“ sind die GRÜNEN samstags zw
 ischen 10-12 Uhr an einem Ort in der Stadt unterwegs. Am 24. Mai sind sie
  ab 10 Uhr am der Ecke Weidenstraße/Adolfstraße in der Wüste. \n\nUns
  geht es nicht darum\, nur zu reden – sondern vor allem zuzuhören“\,
  sagen Luca Wirkus und Max Strautmann\, Vorsitzende der Osnabrücker GRÜ
 NEN. „Wir möchten wissen\, was die Menschen im Alltag bewegt: Wo drüc
 kt der Schuh? Was läuft gut\, was läuft schlecht? Was braucht es in der
  Stadt – und wo können wir konkret unterstützen?“
CLASS:PUBLIC
DTSTART;TZID=Europe/Berlin:20250524T100000
DTEND;TZID=Europe/Berlin:20250524T120000
DTSTAMP:20260424T195101
END:VEVENT
END:VCALENDAR